BEGIN:VCALENDAR
VERSION:2.0
PRODID:-//Smoky Mountain - ECPv6.15.20//NONSGML v1.0//EN
CALSCALE:GREGORIAN
METHOD:PUBLISH
X-WR-CALNAME:Smoky Mountain
X-ORIGINAL-URL:https://smokymtn.cisvusa.org
X-WR-CALDESC:Events for Smoky Mountain
REFRESH-INTERVAL;VALUE=DURATION:PT1H
X-Robots-Tag:noindex
X-PUBLISHED-TTL:PT1H
BEGIN:VTIMEZONE
TZID:America/New_York
BEGIN:DAYLIGHT
TZOFFSETFROM:-0500
TZOFFSETTO:-0400
TZNAME:EDT
DTSTART:20190310T070000
END:DAYLIGHT
BEGIN:STANDARD
TZOFFSETFROM:-0400
TZOFFSETTO:-0500
TZNAME:EST
DTSTART:20191103T060000
END:STANDARD
BEGIN:DAYLIGHT
TZOFFSETFROM:-0500
TZOFFSETTO:-0400
TZNAME:EDT
DTSTART:20200308T070000
END:DAYLIGHT
BEGIN:STANDARD
TZOFFSETFROM:-0400
TZOFFSETTO:-0500
TZNAME:EST
DTSTART:20201101T060000
END:STANDARD
BEGIN:DAYLIGHT
TZOFFSETFROM:-0500
TZOFFSETTO:-0400
TZNAME:EDT
DTSTART:20210314T070000
END:DAYLIGHT
BEGIN:STANDARD
TZOFFSETFROM:-0400
TZOFFSETTO:-0500
TZNAME:EST
DTSTART:20211107T060000
END:STANDARD
END:VTIMEZONE
BEGIN:VEVENT
DTSTART;TZID=America/New_York:20200727T200000
DTEND;TZID=America/New_York:20200727T210000
DTSTAMP:20260425T192918
CREATED:20200727T215646Z
LAST-MODIFIED:20200727T215646Z
UID:10000065-1595880000-1595883600@smokymtn.cisvusa.org
SUMMARY:How to Be an Antiracist Discussion
DESCRIPTION:Join CISV USA For a discussion on the book “How to Be an Antiracist” tonight at 8pm – 9pm. \nFollow this link on your smart device to access the meeting:\nhttps://global.gotomeeting.com/join/269843309 \nYou can also dial in using your phone.\nUnited States (Toll Free): 1 866 899 4679\nUnited States: +1 (646) 749-3117 \nAccess Code: 269-843-309 \nFor more information about the book\, visit: https://www.ibramxkendi.com/how-to-be-an-antiracist-1
URL:https://smokymtn.cisvusa.org/event/how-to-be-an-antiracist-discussion/
END:VEVENT
END:VCALENDAR