BEGIN:VCALENDAR
VERSION:2.0
PRODID:-//Smoky Mountain - ECPv6.15.20//NONSGML v1.0//EN
CALSCALE:GREGORIAN
METHOD:PUBLISH
X-WR-CALNAME:Smoky Mountain
X-ORIGINAL-URL:https://smokymtn.cisvusa.org
X-WR-CALDESC:Events for Smoky Mountain
REFRESH-INTERVAL;VALUE=DURATION:PT1H
X-Robots-Tag:noindex
X-PUBLISHED-TTL:PT1H
BEGIN:VTIMEZONE
TZID:America/New_York
BEGIN:DAYLIGHT
TZOFFSETFROM:-0500
TZOFFSETTO:-0400
TZNAME:EDT
DTSTART:20230312T070000
END:DAYLIGHT
BEGIN:STANDARD
TZOFFSETFROM:-0400
TZOFFSETTO:-0500
TZNAME:EST
DTSTART:20231105T060000
END:STANDARD
BEGIN:DAYLIGHT
TZOFFSETFROM:-0500
TZOFFSETTO:-0400
TZNAME:EDT
DTSTART:20240310T070000
END:DAYLIGHT
BEGIN:STANDARD
TZOFFSETFROM:-0400
TZOFFSETTO:-0500
TZNAME:EST
DTSTART:20241103T060000
END:STANDARD
BEGIN:DAYLIGHT
TZOFFSETFROM:-0500
TZOFFSETTO:-0400
TZNAME:EDT
DTSTART:20250309T070000
END:DAYLIGHT
BEGIN:STANDARD
TZOFFSETFROM:-0400
TZOFFSETTO:-0500
TZNAME:EST
DTSTART:20251102T060000
END:STANDARD
END:VTIMEZONE
BEGIN:VEVENT
DTSTART;TZID=America/New_York:20240624T193000
DTEND;TZID=America/New_York:20240624T213000
DTSTAMP:20260424T080901
CREATED:20240329T033649Z
LAST-MODIFIED:20240329T033649Z
UID:10000176-1719257400-1719264600@smokymtn.cisvusa.org
SUMMARY:Mosaic Meeting - June
DESCRIPTION:Topic: Mosaic Meeting\nTime: Mar 25\, 2024 07:30 PM Eastern Time (US and Canada)\nEvery month on the Fourth Mon\, until Jul 22\, 2024\, 5 occurrence(s)\nMar 25\, 2024 07:30 PM\nApr 22\, 2024 07:30 PM\nMay 27\, 2024 07:30 PM\nJun 24\, 2024 07:30 PM\nJul 22\, 2024 07:30 PM\nPlease download and import the following iCalendar (.ics) files to your calendar system.\nMonthly: https://us02web.zoom.us/meeting/tZEqc-isqTIuH9TgWeXiUq_1MY9IC5kLMy8V/ics?icsToken=98tyKuGtqT8rHtOctByHRpwMB4-gd-jwtlhbgvppmyjgOylmczynG9sbG5EqG_T9 \nJoin Zoom Meeting\nhttps://us02web.zoom.us/j/85741479450?pwd=eDNuTk1qcFVHQVl1MzM5WHNBUS9Idz09 \nMeeting ID: 857 4147 9450\nPasscode: 937495 \n— \nOne tap mobile\n+13017158592\,\,85741479450#\,\,\,\,*937495# US (Washington DC)\n+13052241968\,\,85741479450#\,\,\,\,*937495# US \n— \nDial by your location\n• +1 301 715 8592 US (Washington DC)\n• +1 305 224 1968 US\n• +1 309 205 3325 US\n• +1 312 626 6799 US (Chicago)\n• +1 646 931 3860 US\n• +1 929 205 6099 US (New York)\n• +1 253 205 0468 US\n• +1 253 215 8782 US (Tacoma)\n• +1 346 248 7799 US (Houston)\n• +1 360 209 5623 US\n• +1 386 347 5053 US\n• +1 507 473 4847 US\n• +1 564 217 2000 US\n• +1 669 444 9171 US\n• +1 669 900 6833 US (San Jose)\n• +1 689 278 1000 US\n• +1 719 359 4580 US \nMeeting ID: 857 4147 9450\nPasscode: 937495 \nFind your local number: https://us02web.zoom.us/u/kb2ysFtAx
URL:https://smokymtn.cisvusa.org/event/mosaic-meeting-june/
CATEGORIES:Board Meeting and JB Board Meeting
END:VEVENT
END:VCALENDAR