BEGIN:VCALENDAR
VERSION:2.0
PRODID:-//Smoky Mountain - ECPv6.15.20//NONSGML v1.0//EN
CALSCALE:GREGORIAN
METHOD:PUBLISH
X-WR-CALNAME:Smoky Mountain
X-ORIGINAL-URL:https://smokymtn.cisvusa.org
X-WR-CALDESC:Events for Smoky Mountain
REFRESH-INTERVAL;VALUE=DURATION:PT1H
X-Robots-Tag:noindex
X-PUBLISHED-TTL:PT1H
BEGIN:VTIMEZONE
TZID:America/New_York
BEGIN:DAYLIGHT
TZOFFSETFROM:-0500
TZOFFSETTO:-0400
TZNAME:EDT
DTSTART:20230312T070000
END:DAYLIGHT
BEGIN:STANDARD
TZOFFSETFROM:-0400
TZOFFSETTO:-0500
TZNAME:EST
DTSTART:20231105T060000
END:STANDARD
BEGIN:DAYLIGHT
TZOFFSETFROM:-0500
TZOFFSETTO:-0400
TZNAME:EDT
DTSTART:20240310T070000
END:DAYLIGHT
BEGIN:STANDARD
TZOFFSETFROM:-0400
TZOFFSETTO:-0500
TZNAME:EST
DTSTART:20241103T060000
END:STANDARD
BEGIN:DAYLIGHT
TZOFFSETFROM:-0500
TZOFFSETTO:-0400
TZNAME:EDT
DTSTART:20250309T070000
END:DAYLIGHT
BEGIN:STANDARD
TZOFFSETFROM:-0400
TZOFFSETTO:-0500
TZNAME:EST
DTSTART:20251102T060000
END:STANDARD
END:VTIMEZONE
BEGIN:VEVENT
DTSTART;TZID=America/New_York:20240921T100000
DTEND;TZID=America/New_York:20240921T190000
DTSTAMP:20260422T062718
CREATED:20240915T175633Z
LAST-MODIFIED:20240915T212013Z
UID:10000197-1726912800-1726945200@smokymtn.cisvusa.org
SUMMARY:International Day of Peace and Peace Crane Folding with OREPA
DESCRIPTION:  \nEach year\, our chapter partners with OREPA to observe International Peace Day by folding origami cranes\nknown as “Peace Cranes\,” in honor of Sadako Sasaki\,\nwho died after the bombing of Hiroshima during World War II.\nYou can watch a short 8-minute documentary on Youtube about Sadako here.\n\n\n  \n\nOREPA and CISV Smoky Mountain will be at\nUnion Avenue Books\n517 Union Avenue\, Knoxville\, TN 37902\nSaturday\, Sept 21\, 2024 from 10am-7pm\n\n  \nCome fold one or more Peace Cranes and stay as long as you like.\nDon’t forget to bring a chair!\nShirts will be given to those that fold 30 cranes\, while supplies last!\nContact orepaorganizer@gmail.com if you have questions
URL:https://smokymtn.cisvusa.org/event/international-day-of-peace-and-peace-crane-folding-with-orepa/
CATEGORIES:JB Activity
END:VEVENT
END:VCALENDAR