BEGIN:VCALENDAR
VERSION:2.0
PRODID:-//Smoky Mountain - ECPv6.15.20//NONSGML v1.0//EN
CALSCALE:GREGORIAN
METHOD:PUBLISH
X-WR-CALNAME:Smoky Mountain
X-ORIGINAL-URL:https://smokymtn.cisvusa.org
X-WR-CALDESC:Events for Smoky Mountain
REFRESH-INTERVAL;VALUE=DURATION:PT1H
X-Robots-Tag:noindex
X-PUBLISHED-TTL:PT1H
BEGIN:VTIMEZONE
TZID:America/New_York
BEGIN:DAYLIGHT
TZOFFSETFROM:-0500
TZOFFSETTO:-0400
TZNAME:EDT
DTSTART:20230312T070000
END:DAYLIGHT
BEGIN:STANDARD
TZOFFSETFROM:-0400
TZOFFSETTO:-0500
TZNAME:EST
DTSTART:20231105T060000
END:STANDARD
BEGIN:DAYLIGHT
TZOFFSETFROM:-0500
TZOFFSETTO:-0400
TZNAME:EDT
DTSTART:20240310T070000
END:DAYLIGHT
BEGIN:STANDARD
TZOFFSETFROM:-0400
TZOFFSETTO:-0500
TZNAME:EST
DTSTART:20241103T060000
END:STANDARD
BEGIN:DAYLIGHT
TZOFFSETFROM:-0500
TZOFFSETTO:-0400
TZNAME:EDT
DTSTART:20250309T070000
END:DAYLIGHT
BEGIN:STANDARD
TZOFFSETFROM:-0400
TZOFFSETTO:-0500
TZNAME:EST
DTSTART:20251102T060000
END:STANDARD
END:VTIMEZONE
BEGIN:VEVENT
DTSTART;TZID=America/New_York:20241020T140000
DTEND;TZID=America/New_York:20241020T160000
DTSTAMP:20260422T191015
CREATED:20240913T025445Z
LAST-MODIFIED:20240913T025445Z
UID:10000186-1729432800-1729440000@smokymtn.cisvusa.org
SUMMARY:Fall Chapter Meeting
DESCRIPTION:Please join us for our Fall Chapter Meeting – one of the most important chapter meetings of the year! All are welcome!
URL:https://smokymtn.cisvusa.org/event/fall-chapter-meeting-5-2/
LOCATION:Ijams Nature Center\, 2915 Island Home Avenue\, Knoxville\, 37920\, United States
CATEGORIES:Board Meeting and JB Board Meeting
GEO:35.9564588;-83.8668073
X-APPLE-STRUCTURED-LOCATION;VALUE=URI;X-ADDRESS=Ijams Nature Center 2915 Island Home Avenue Knoxville 37920 United States;X-APPLE-RADIUS=500;X-TITLE=2915 Island Home Avenue:geo:-83.8668073,35.9564588
END:VEVENT
END:VCALENDAR