BEGIN:VCALENDAR
VERSION:2.0
PRODID:-//Smoky Mountain - ECPv6.15.20//NONSGML v1.0//EN
CALSCALE:GREGORIAN
METHOD:PUBLISH
X-WR-CALNAME:Smoky Mountain
X-ORIGINAL-URL:https://smokymtn.cisvusa.org
X-WR-CALDESC:Events for Smoky Mountain
REFRESH-INTERVAL;VALUE=DURATION:PT1H
X-Robots-Tag:noindex
X-PUBLISHED-TTL:PT1H
BEGIN:VTIMEZONE
TZID:America/New_York
BEGIN:DAYLIGHT
TZOFFSETFROM:-0500
TZOFFSETTO:-0400
TZNAME:EDT
DTSTART:20240310T070000
END:DAYLIGHT
BEGIN:STANDARD
TZOFFSETFROM:-0400
TZOFFSETTO:-0500
TZNAME:EST
DTSTART:20241103T060000
END:STANDARD
BEGIN:DAYLIGHT
TZOFFSETFROM:-0500
TZOFFSETTO:-0400
TZNAME:EDT
DTSTART:20250309T070000
END:DAYLIGHT
BEGIN:STANDARD
TZOFFSETFROM:-0400
TZOFFSETTO:-0500
TZNAME:EST
DTSTART:20251102T060000
END:STANDARD
BEGIN:DAYLIGHT
TZOFFSETFROM:-0500
TZOFFSETTO:-0400
TZNAME:EDT
DTSTART:20260308T070000
END:DAYLIGHT
BEGIN:STANDARD
TZOFFSETFROM:-0400
TZOFFSETTO:-0500
TZNAME:EST
DTSTART:20261101T060000
END:STANDARD
END:VTIMEZONE
BEGIN:VEVENT
DTSTART;TZID=America/New_York:20250120T170000
DTEND;TZID=America/New_York:20250120T213000
DTSTAMP:20260420T224046
CREATED:20250104T231940Z
LAST-MODIFIED:20250104T231940Z
UID:10000200-1737392400-1737408600@smokymtn.cisvusa.org
SUMMARY:Cruze Farm Downtown Fundraiser
DESCRIPTION:Join us downtown on Gay Street at Cruze Farm for ice cream\, shakes\, churns\, floats\, sundaes\, and more on January 20th from 5pm – 9:30pm. Bring your friends and family to support our 2025 Village at this fundraising event! Just mention CISV Smoky Mountain during the timeframe to donate 20% of your order to our chapter. Solicitation to participate in the fundraiser at the location is not allowed.\n\nBe sure to spread the word to your friends and family\, CISVers and non-CISVers alike so we get a big turnout! See you there!
URL:https://smokymtn.cisvusa.org/event/cruze-farm-downtown-fundraiser/
LOCATION:Cruze Farm Downtown\, 445 S Gay St #3\, Knoxville\, TN\, 37902
CATEGORIES:Fundraiser
ATTACH;FMTTYPE=image/jpeg:https://smokymtn.cisvusa.org/wp-content/uploads/sites/23/2025/01/ice-cream-5928048_1280.jpg
END:VEVENT
END:VCALENDAR