BEGIN:VCALENDAR
VERSION:2.0
PRODID:-//Smoky Mountain - ECPv6.15.20//NONSGML v1.0//EN
CALSCALE:GREGORIAN
METHOD:PUBLISH
X-WR-CALNAME:Smoky Mountain
X-ORIGINAL-URL:https://smokymtn.cisvusa.org
X-WR-CALDESC:Events for Smoky Mountain
REFRESH-INTERVAL;VALUE=DURATION:PT1H
X-Robots-Tag:noindex
X-PUBLISHED-TTL:PT1H
BEGIN:VTIMEZONE
TZID:America/New_York
BEGIN:DAYLIGHT
TZOFFSETFROM:-0500
TZOFFSETTO:-0400
TZNAME:EDT
DTSTART:20240310T070000
END:DAYLIGHT
BEGIN:STANDARD
TZOFFSETFROM:-0400
TZOFFSETTO:-0500
TZNAME:EST
DTSTART:20241103T060000
END:STANDARD
BEGIN:DAYLIGHT
TZOFFSETFROM:-0500
TZOFFSETTO:-0400
TZNAME:EDT
DTSTART:20250309T070000
END:DAYLIGHT
BEGIN:STANDARD
TZOFFSETFROM:-0400
TZOFFSETTO:-0500
TZNAME:EST
DTSTART:20251102T060000
END:STANDARD
BEGIN:DAYLIGHT
TZOFFSETFROM:-0500
TZOFFSETTO:-0400
TZNAME:EDT
DTSTART:20260308T070000
END:DAYLIGHT
BEGIN:STANDARD
TZOFFSETFROM:-0400
TZOFFSETTO:-0500
TZNAME:EST
DTSTART:20261101T060000
END:STANDARD
END:VTIMEZONE
BEGIN:VEVENT
DTSTART;TZID=America/New_York:20251003T150000
DTEND;TZID=America/New_York:20251005T140000
DTSTAMP:20260420T224046
CREATED:20250806T023739Z
LAST-MODIFIED:20250806T023739Z
UID:10000213-1759503600-1759672800@smokymtn.cisvusa.org
SUMMARY:SRMC (Southern Regional Mini Camp)
DESCRIPTION:It’s time to register for Southern Regional Mini Camp (SRMC) hosted by CISV Miami!\n\nSRMC is a great opportunity for CISV youth members from the Southeast region (Miami\, Jacksonville\, Chattanooga\, Atlanta\, Smoky Mountains) to participate in fun and educational activities\, and to build friendships within the CISV community. Only chapter members are eligible to attend.\n\n\n\nSPOTS ARE LIMITED!  Smoky Mountain can take 8 kids per chaperone\, max 16 kids.  We are filling a group of 8 first\, and then will open to the next 8 kids.  Please fill out the form below to indicate your interest for Smoky Mountain and THEN we will send you the link to officially register.\n\n\nSRMC Interest Form\n \nSmoky Mountain Registration Deadline:  August 14th\n\n\n\nDate: October 3–5\, 2025\nTime: Camp starts on October 3rd at 3pm and ends on October 5th at 2pm\nAge Group: 10–17 years old\nLocation: Homestead-FL (Exact location will be provided to participants.)\nCamp Cost: $265 per youth participant.\nTravel Cost:  Children will travel together with their chaperone from Knoxville to Miami and back.  Travel costs tbd plus participants will split the airfare cost for the chaperone.  Airfare will be arranged as soon as possible.\n\nAll mini camp fees are nonrefundable.
URL:https://smokymtn.cisvusa.org/event/srmc-southern-regional-mini-camp-2/
CATEGORIES:Mini Camp
END:VEVENT
END:VCALENDAR