BEGIN:VCALENDAR
VERSION:2.0
PRODID:-//Smoky Mountain - ECPv6.15.20//NONSGML v1.0//EN
CALSCALE:GREGORIAN
METHOD:PUBLISH
X-WR-CALNAME:Smoky Mountain
X-ORIGINAL-URL:https://smokymtn.cisvusa.org
X-WR-CALDESC:Events for Smoky Mountain
REFRESH-INTERVAL;VALUE=DURATION:PT1H
X-Robots-Tag:noindex
X-PUBLISHED-TTL:PT1H
BEGIN:VTIMEZONE
TZID:America/New_York
BEGIN:DAYLIGHT
TZOFFSETFROM:-0500
TZOFFSETTO:-0400
TZNAME:EDT
DTSTART:20240310T070000
END:DAYLIGHT
BEGIN:STANDARD
TZOFFSETFROM:-0400
TZOFFSETTO:-0500
TZNAME:EST
DTSTART:20241103T060000
END:STANDARD
BEGIN:DAYLIGHT
TZOFFSETFROM:-0500
TZOFFSETTO:-0400
TZNAME:EDT
DTSTART:20250309T070000
END:DAYLIGHT
BEGIN:STANDARD
TZOFFSETFROM:-0400
TZOFFSETTO:-0500
TZNAME:EST
DTSTART:20251102T060000
END:STANDARD
BEGIN:DAYLIGHT
TZOFFSETFROM:-0500
TZOFFSETTO:-0400
TZNAME:EDT
DTSTART:20260308T070000
END:DAYLIGHT
BEGIN:STANDARD
TZOFFSETFROM:-0400
TZOFFSETTO:-0500
TZNAME:EST
DTSTART:20261101T060000
END:STANDARD
END:VTIMEZONE
BEGIN:VEVENT
DTSTART;TZID=America/New_York:20251019T143000
DTEND;TZID=America/New_York:20251019T163000
DTSTAMP:20260420T224039
CREATED:20250914T173008Z
LAST-MODIFIED:20251016T001349Z
UID:10000221-1760884200-1760891400@smokymtn.cisvusa.org
SUMMARY:Fall Chapter Meeting & Open House
DESCRIPTION:We will be meeting at Tyson Park (2351 Kingston Pike\, Knoxville\, TN 37919) at Shelter #1 from 2:30 pm – 4:30 pm on October 19. Board members\, we will be voting on some changes to the bylaws so please try to be there. Bring your friends for our Open House to learn about CISV and exciting opportunities within the chapter. Please bring a snack to share from your travels or otherwise – as well as your favorite shirt or other trade items from camp to show off. We’d love to hear about anyone’s experiences at camp if you are comfortable with sharing as well!
URL:https://smokymtn.cisvusa.org/event/fall-chapter-meeting-open-house/
LOCATION:Tyson Park\, 2351 Kingston Pike\, Knoxville\, TN\, 37919\, United States
CATEGORIES:Chapter Meeting
END:VEVENT
END:VCALENDAR