BEGIN:VCALENDAR
VERSION:2.0
PRODID:-//Smoky Mountain - ECPv6.15.20//NONSGML v1.0//EN
CALSCALE:GREGORIAN
METHOD:PUBLISH
X-WR-CALNAME:Smoky Mountain
X-ORIGINAL-URL:https://smokymtn.cisvusa.org
X-WR-CALDESC:Events for Smoky Mountain
REFRESH-INTERVAL;VALUE=DURATION:PT1H
X-Robots-Tag:noindex
X-PUBLISHED-TTL:PT1H
BEGIN:VTIMEZONE
TZID:America/New_York
BEGIN:DAYLIGHT
TZOFFSETFROM:-0500
TZOFFSETTO:-0400
TZNAME:EDT
DTSTART:20220313T070000
END:DAYLIGHT
BEGIN:STANDARD
TZOFFSETFROM:-0400
TZOFFSETTO:-0500
TZNAME:EST
DTSTART:20221106T060000
END:STANDARD
BEGIN:DAYLIGHT
TZOFFSETFROM:-0500
TZOFFSETTO:-0400
TZNAME:EDT
DTSTART:20230312T070000
END:DAYLIGHT
BEGIN:STANDARD
TZOFFSETFROM:-0400
TZOFFSETTO:-0500
TZNAME:EST
DTSTART:20231105T060000
END:STANDARD
BEGIN:DAYLIGHT
TZOFFSETFROM:-0500
TZOFFSETTO:-0400
TZNAME:EDT
DTSTART:20240310T070000
END:DAYLIGHT
BEGIN:STANDARD
TZOFFSETFROM:-0400
TZOFFSETTO:-0500
TZNAME:EST
DTSTART:20241103T060000
END:STANDARD
BEGIN:DAYLIGHT
TZOFFSETFROM:-0500
TZOFFSETTO:-0400
TZNAME:EDT
DTSTART:20250309T070000
END:DAYLIGHT
BEGIN:STANDARD
TZOFFSETFROM:-0400
TZOFFSETTO:-0500
TZNAME:EST
DTSTART:20251102T060000
END:STANDARD
BEGIN:DAYLIGHT
TZOFFSETFROM:-0500
TZOFFSETTO:-0400
TZNAME:EDT
DTSTART:20260308T070000
END:DAYLIGHT
BEGIN:STANDARD
TZOFFSETFROM:-0400
TZOFFSETTO:-0500
TZNAME:EST
DTSTART:20261101T060000
END:STANDARD
END:VTIMEZONE
BEGIN:VEVENT
DTSTART;VALUE=DATE:20250718
DTEND;VALUE=DATE:20250719
DTSTAMP:20260421T005550
CREATED:20250416T032331Z
LAST-MODIFIED:20250416T032331Z
UID:10000206-1752796800-1752883199@smokymtn.cisvusa.org
SUMMARY:Smoky Mountain Chapter 60 Year Anniversary Celebration Raffle
DESCRIPTION:
URL:https://smokymtn.cisvusa.org/event/smoky-mountain-chapter-60-year-anniversary-celebration-raffle/
CATEGORIES:Fundraiser
END:VEVENT
BEGIN:VEVENT
DTSTART;TZID=America/New_York:20250426T180000
DTEND;TZID=America/New_York:20250426T220000
DTSTAMP:20260421T005550
CREATED:20250319T023233Z
LAST-MODIFIED:20250319T023233Z
UID:10000205-1745690400-1745704800@smokymtn.cisvusa.org
SUMMARY:Community Shares - Circle of Change Awards
DESCRIPTION:Each year our chapter gathers donations for Community Shares’ Circle of Change Awards ceremony. We are one of their member organizations and we get points which get us monetary awards from them based upon our support of the organization. This event is how we get most of the points for the year. If you have something to donate or can help us get some donations for their silent auction\, please reach out to Shelley with Community Shares at 865-522-1604 or shelley@communitysharestn.org and let our chapter know as well so we can track how we are doing. To purchase tickets or make monetary donations\, use this link.  Here you can find a PDF version of the information below with clickable links.
URL:https://smokymtn.cisvusa.org/event/community-shares-circle-of-change-awards/
LOCATION:Bearden Banquet Hall\, 5806 Kingston Pike\, Knoxville\, TN
CATEGORIES:Fundraiser
END:VEVENT
BEGIN:VEVENT
DTSTART;TZID=America/New_York:20250120T170000
DTEND;TZID=America/New_York:20250120T213000
DTSTAMP:20260421T005550
CREATED:20250104T231940Z
LAST-MODIFIED:20250104T231940Z
UID:10000200-1737392400-1737408600@smokymtn.cisvusa.org
SUMMARY:Cruze Farm Downtown Fundraiser
DESCRIPTION:Join us downtown on Gay Street at Cruze Farm for ice cream\, shakes\, churns\, floats\, sundaes\, and more on January 20th from 5pm – 9:30pm. Bring your friends and family to support our 2025 Village at this fundraising event! Just mention CISV Smoky Mountain during the timeframe to donate 20% of your order to our chapter. Solicitation to participate in the fundraiser at the location is not allowed.\n\nBe sure to spread the word to your friends and family\, CISVers and non-CISVers alike so we get a big turnout! See you there!
URL:https://smokymtn.cisvusa.org/event/cruze-farm-downtown-fundraiser/
LOCATION:Cruze Farm Downtown\, 445 S Gay St #3\, Knoxville\, TN\, 37902
CATEGORIES:Fundraiser
ATTACH;FMTTYPE=image/jpeg:https://smokymtn.cisvusa.org/wp-content/uploads/sites/23/2025/01/ice-cream-5928048_1280.jpg
END:VEVENT
BEGIN:VEVENT
DTSTART;TZID=America/New_York:20250114T170000
DTEND;TZID=America/New_York:20250114T210000
DTSTAMP:20260421T005550
CREATED:20250104T225321Z
LAST-MODIFIED:20250104T231414Z
UID:10000199-1736874000-1736888400@smokymtn.cisvusa.org
SUMMARY:Blaze Pizza Fundraiser
DESCRIPTION:  \n\nEnjoy great pizza with friends and family while supporting our 2025 Village at a special fundraising event at Blaze Pizza on North Peters Road! You can place an order online or in-person between 5pm and 9pm on January 14 to donate 20% of your order to our chapter. Be sure to spread the word to your friends and family\, CISVers and non-CISVers alike! $500 in sales must be reached for our organization to receive a donation. \n\n\nIn-person\, you can show a printed or virtual flyer on your phone for it to count. On-site solicitation for others to join our fundraiser is prohibited and may result in cancellation of the fundraiser. \n\nBe sure to enter the promo code 1056A for online orders in the Blaze Pizza app or blazepizza.com. If entered correctly\, you will see a $.01 discount applied to your check which confirms that 20% of your transaction will be counted into the total donation. No other discount can be applied.\n\nYou can download the flyer here: https://smokymtn.cisvusa.org/…/01/Smoky-Mountain-CISV.pdf
URL:https://smokymtn.cisvusa.org/event/blaze-pizza-fundraiser/
LOCATION:Blaze Pizza North Peters\, 113 North Peters Road\, Knoxville\, TN\, 37923
CATEGORIES:Fundraiser
ATTACH;FMTTYPE=image/jpeg:https://smokymtn.cisvusa.org/wp-content/uploads/sites/23/2025/01/pizza-6478478_1280.jpg
END:VEVENT
BEGIN:VEVENT
DTSTART;TZID=America/New_York:20230928T190000
DTEND;TZID=America/New_York:20230928T233000
DTSTAMP:20260421T005550
CREATED:20230926T222705Z
LAST-MODIFIED:20230926T222705Z
UID:10000162-1695927600-1695943800@smokymtn.cisvusa.org
SUMMARY:Karaoke Fundraiser
DESCRIPTION:Come out and support our chapter at a karaoke fundraiser with Knox Box Karaoke. 7pm – 9pm is all ages\, after 9pm is adults 21+. There is a $5 suggested cover that will be donated to CISV and 25% of all proceeds for the night will go to our chapter as well. \nRSVP if you can make it and invite your friends! https://fb.me/e/3bHsPC7Oz
URL:https://smokymtn.cisvusa.org/event/karaoke-fundraiser/
LOCATION:Knox Box Karaoke\, 522 South Gay Street\, Knoxville\, TN\, 37902
CATEGORIES:Fundraiser
END:VEVENT
BEGIN:VEVENT
DTSTART;TZID=America/New_York:20230411T180000
DTEND;TZID=America/New_York:20230411T200000
DTSTAMP:20260421T005550
CREATED:20230319T054503Z
LAST-MODIFIED:20230319T054503Z
UID:10000091-1681236000-1681243200@smokymtn.cisvusa.org
SUMMARY:Pint Night Fundraiser at Trailhead Beer Market
DESCRIPTION:Come out to support our chapter at Trailhead Beer Market\, South Knox’s first beer market. For each pint sold\, our chapter will get a $1 donation. Bring your family\, friends\, and dogs (outside)! Let’s have some fun and help raise money for our Youth Meeting this summer at the same time!
URL:https://smokymtn.cisvusa.org/event/pint-night-fundraiser-at-trailhead-beer-market/
LOCATION:Trailhead Beer Market\, 1317 Island Home Ave\, Knoxville\, TN\, 37920
CATEGORIES:Fundraiser
END:VEVENT
BEGIN:VEVENT
DTSTART;TZID=America/New_York:20230305T140000
DTEND;TZID=America/New_York:20230305T170000
DTSTAMP:20260421T005550
CREATED:20230207T223157Z
LAST-MODIFIED:20230223T233206Z
UID:10000147-1678024800-1678035600@smokymtn.cisvusa.org
SUMMARY:FUNdraiser at Voodoo Brewing
DESCRIPTION:Join CISV Smoky Mountain for some FUNdraising at Voodoo Brewing Co. on Sunday\, March 5 from 2 – 5 pm! Help raise money to help fund our Youth Meeting this summer and enjoy some delicious drinks and food at one of Knoxville’s great breweries. Fun activities of the evening include trivia and singo! We hope to see you and your friends there! \nPlease RSVP at forms.gle/tGh4V6Wx22vYpucu6 or contact smokymtncisv.president@gmail.com
URL:https://smokymtn.cisvusa.org/event/fundraiser-at-voodoo-brewing/
LOCATION:215 Brookview Centre Way Suite 109\, Knoxville\, TN 37919\, 215 Brookview Centre Way Suite 109\, Knoxville\, TN\, 337919
CATEGORIES:Fundraiser
END:VEVENT
END:VCALENDAR