BEGIN:VCALENDAR
VERSION:2.0
PRODID:-//Smoky Mountain - ECPv6.15.20//NONSGML v1.0//EN
CALSCALE:GREGORIAN
METHOD:PUBLISH
X-WR-CALNAME:Smoky Mountain
X-ORIGINAL-URL:https://smokymtn.cisvusa.org
X-WR-CALDESC:Events for Smoky Mountain
REFRESH-INTERVAL;VALUE=DURATION:PT1H
X-Robots-Tag:noindex
X-PUBLISHED-TTL:PT1H
BEGIN:VTIMEZONE
TZID:America/New_York
BEGIN:DAYLIGHT
TZOFFSETFROM:-0500
TZOFFSETTO:-0400
TZNAME:EDT
DTSTART:20210314T070000
END:DAYLIGHT
BEGIN:STANDARD
TZOFFSETFROM:-0400
TZOFFSETTO:-0500
TZNAME:EST
DTSTART:20211107T060000
END:STANDARD
BEGIN:DAYLIGHT
TZOFFSETFROM:-0500
TZOFFSETTO:-0400
TZNAME:EDT
DTSTART:20220313T070000
END:DAYLIGHT
BEGIN:STANDARD
TZOFFSETFROM:-0400
TZOFFSETTO:-0500
TZNAME:EST
DTSTART:20221106T060000
END:STANDARD
BEGIN:DAYLIGHT
TZOFFSETFROM:-0500
TZOFFSETTO:-0400
TZNAME:EDT
DTSTART:20230312T070000
END:DAYLIGHT
BEGIN:STANDARD
TZOFFSETFROM:-0400
TZOFFSETTO:-0500
TZNAME:EST
DTSTART:20231105T060000
END:STANDARD
BEGIN:DAYLIGHT
TZOFFSETFROM:-0500
TZOFFSETTO:-0400
TZNAME:EDT
DTSTART:20240310T070000
END:DAYLIGHT
BEGIN:STANDARD
TZOFFSETFROM:-0400
TZOFFSETTO:-0500
TZNAME:EST
DTSTART:20241103T060000
END:STANDARD
BEGIN:DAYLIGHT
TZOFFSETFROM:-0500
TZOFFSETTO:-0400
TZNAME:EDT
DTSTART:20250309T070000
END:DAYLIGHT
BEGIN:STANDARD
TZOFFSETFROM:-0400
TZOFFSETTO:-0500
TZNAME:EST
DTSTART:20251102T060000
END:STANDARD
BEGIN:DAYLIGHT
TZOFFSETFROM:-0500
TZOFFSETTO:-0400
TZNAME:EDT
DTSTART:20260308T070000
END:DAYLIGHT
BEGIN:STANDARD
TZOFFSETFROM:-0400
TZOFFSETTO:-0500
TZNAME:EST
DTSTART:20261101T060000
END:STANDARD
BEGIN:DAYLIGHT
TZOFFSETFROM:-0500
TZOFFSETTO:-0400
TZNAME:EDT
DTSTART:20270314T070000
END:DAYLIGHT
BEGIN:STANDARD
TZOFFSETFROM:-0400
TZOFFSETTO:-0500
TZNAME:EST
DTSTART:20271107T060000
END:STANDARD
END:VTIMEZONE
BEGIN:VEVENT
DTSTART;TZID=America/New_York:20260222T150000
DTEND;TZID=America/New_York:20260222T170000
DTSTAMP:20260419T162450
CREATED:20250914T175908Z
LAST-MODIFIED:20260219T020341Z
UID:10000229-1771772400-1771779600@smokymtn.cisvusa.org
SUMMARY:JB Event\, Delegation Celebration\, Parent Training
DESCRIPTION:Join us in celebrating this year’s delegations for our programs!
URL:https://smokymtn.cisvusa.org/event/jb-event-delegation-celebration-parent-training/
LOCATION:Tennessee Valley Unitarian Universalist Church\, 2931 Kingston Pike\, Knoxville\, TN\, 37919
CATEGORIES:JB Activity,Training
END:VEVENT
BEGIN:VEVENT
DTSTART;VALUE=DATE:20260101
DTEND;VALUE=DATE:20260102
DTSTAMP:20260419T162450
CREATED:20250914T173758Z
LAST-MODIFIED:20251119T043054Z
UID:10000226-1767225600-1767311999@smokymtn.cisvusa.org
SUMMARY:Summer Traveler Program Applications Due
DESCRIPTION:Applications are due on this date! Please get all documents in\, including references by this date if you are applying for a 2026 program!
URL:https://smokymtn.cisvusa.org/event/summer-traveler-program-applications-due/
CATEGORIES:Programs
END:VEVENT
BEGIN:VEVENT
DTSTART;TZID=America/New_York:20251117T180000
DTEND;TZID=America/New_York:20251117T193000
DTSTAMP:20260419T162450
CREATED:20251113T184146Z
LAST-MODIFIED:20251113T184146Z
UID:10000244-1763402400-1763407800@smokymtn.cisvusa.org
SUMMARY:Seminar Camp Application Webinar
DESCRIPTION:Reggie with CISV Jacksonville is hosting an info session on Zoom about applying for Seminar Camp. Tune in here if you or a family member are interested in Seminar Camp this summer!
URL:https://smokymtn.cisvusa.org/event/seminar-camp-application-webinar/
CATEGORIES:Training
END:VEVENT
BEGIN:VEVENT
DTSTART;TZID=America/New_York:20250817T140000
DTEND;TZID=America/New_York:20250817T160000
DTSTAMP:20260419T162450
CREATED:20250806T022944Z
LAST-MODIFIED:20250806T022944Z
UID:10000212-1755439200-1755446400@smokymtn.cisvusa.org
SUMMARY:Welcome Back Party & Debrief
DESCRIPTION:Welcome Back Party & Debrief\n\nAugust 17\, 2025\n2pm – 4pm\nThe Brun Home & Pool\n\nSummer 2025 travelers and parents should attend for the debrief session.  If you are unable to attend\, please let us know and we will set up a separate conversation.\n\nWe will have some time for swimming and also split into small group debrief sessions led by a facilitator.  This will give participants (and parents) an opportunity to express the impact the program had on them by asking some direct questions.\nNo advance preparation is needed although we would love to see any new CISV gear from your programs!!  Please bring a lawn chair\, swim clothes and towels.\n\nIn addition to the debrief time\, all travelers should complete the following evaluation form prior to the event on August 17th.\n2025 Summer Program Evaluation Survey\n\nThank you & see you at the Welcome Back Party!
URL:https://smokymtn.cisvusa.org/event/welcome-back-party-debrief/
CATEGORIES:Programs
END:VEVENT
BEGIN:VEVENT
DTSTART;TZID=America/New_York:20250503T090000
DTEND;TZID=America/New_York:20250504T150000
DTSTAMP:20260419T162450
CREATED:20250217T040015Z
LAST-MODIFIED:20250226T032313Z
UID:10000202-1746262800-1746370800@smokymtn.cisvusa.org
SUMMARY:National Leader Training (NLT)
DESCRIPTION:NLT Dates and Times:\nMay 3 @ 9am – 5pm\nMay 4 @ 9am – 3pm \nAll leaders\, JC\, and staff must attend National Leader Training in person (Seminar training is separate here). We are hosting again this year so the training will be held locally! \nLink to information and registration NLT Spring 2025 Registration – CISV USA
URL:https://smokymtn.cisvusa.org/event/national-leader-training/
CATEGORIES:Training
END:VEVENT
BEGIN:VEVENT
DTSTART;TZID=America/New_York:20250309T140000
DTEND;TZID=America/New_York:20250309T160000
DTSTAMP:20260419T162450
CREATED:20240915T173547Z
LAST-MODIFIED:20250224T012919Z
UID:10000194-1741528800-1741536000@smokymtn.cisvusa.org
SUMMARY:Delegation Celebration and Parent Training
DESCRIPTION:Join us 2pm – 4pm at the Tennessee Valley Unitarian Universalist Church on March 9th to celebrate the delegations participating in programs this year. This meeting is also important for parents to attend for the mandatory parent training required to participate in a program.
URL:https://smokymtn.cisvusa.org/event/delegation-celebration-parent-training-village-volunteers/
LOCATION:Tennessee Valley Unitarian Universalist Church\, 2931 Kingston Pike\, Knoxville\, TN\, 37919
CATEGORIES:JB Activity,Training
END:VEVENT
BEGIN:VEVENT
DTSTART;TZID=America/New_York:20250301T080000
DTEND;TZID=America/New_York:20250518T170000
DTSTAMP:20260419T162450
CREATED:20250224T014405Z
LAST-MODIFIED:20250226T030323Z
UID:10000203-1740816000-1747587600@smokymtn.cisvusa.org
SUMMARY:Local Leader Training (LLT)
DESCRIPTION:This year Local Leader Training will take place virutally. This is a mandatory prerequisite training to attend in-person National Leader Training. Every leader\, staff\, JC\, Fortnight\, and Seminar Camp participant must attend one of the following virtual phase 1 training sessions: \n\nMarch 1-2; start time 10 am; Saturday (6 hours); Sunday (4 hours)\nMarch 8-9; start time 11 am; Saturday (6 hours); Sunday (4 hours)\nApril 5-6; start time 10 am; Saturday (6 hours); Sunday (4 hours)\nApril 12-13; start time 11 am; Saturday (6 hours); Sunday (4 hours)\nMay 3-4; start time 10 am; Saturday (6 hours); Sunday (4 hours)\nMay 17-18; start time 11 am; Saturday (6 hours); Sunday (4 hours)\n\nRegistration Link: https://cisvusa.org/phase-1-training-2025/
URL:https://smokymtn.cisvusa.org/event/llt-2-2/
LOCATION:Virtual
CATEGORIES:Training
END:VEVENT
BEGIN:VEVENT
DTSTART;TZID=America/New_York:20250228T190000
DTEND;TZID=America/New_York:20250301T083000
DTSTAMP:20260419T162450
CREATED:20250202T235942Z
LAST-MODIFIED:20250224T012138Z
UID:10000201-1740769200-1740817800@smokymtn.cisvusa.org
SUMMARY:Fun Day / Selection Overnight
DESCRIPTION:It’s like a Fun Day but longer and more fun! This is a very important event you won’t want to miss! \nDuring the first hour following drop-off\, we will offer an opportunity for parents to gather\, discuss summer programs\, share best practices and lessons learned from those who have sent travelers in previous years\, share information on volunteer opportunities to help when we host village this summer and generally have an open discussion/Q&A. This would be a great time for anyone interested in CISV to learn more\, so feel free to bring friends\, parents of potential travelers\, etc. \nPlease let us know if you are able to chaperone\, check in/out children\, help with interviews\, or help with food/snacks. \nProgram applicants should make plans to attend the overnight and minicamp. \nYou can find the updated link to RSVP at this link: https://docs.google.com/forms/d/e/1FAIpQLSf_1q7WxTSyDDN5eMS64-BmABiq49aVsN7ffftCHX7gYfrTaw/viewform?usp=sharing
URL:https://smokymtn.cisvusa.org/event/fun-day-overnight-2/
CATEGORIES:JB Activity,Programs
END:VEVENT
BEGIN:VEVENT
DTSTART;VALUE=DATE:20250106
DTEND;VALUE=DATE:20250107
DTSTAMP:20260419T162450
CREATED:20240915T171630Z
LAST-MODIFIED:20240915T171630Z
UID:10000192-1736121600-1736207999@smokymtn.cisvusa.org
SUMMARY:Applications Due
DESCRIPTION:Applications are due for Summer 2025 applicants! Here is a list of our current programs. Find out more information about applying for a program here.
URL:https://smokymtn.cisvusa.org/event/applications-due/
CATEGORIES:Programs
END:VEVENT
BEGIN:VEVENT
DTSTART;VALUE=DATE:20240928
DTEND;VALUE=DATE:20240930
DTSTAMP:20260419T162450
CREATED:20240211T022639Z
LAST-MODIFIED:20240211T022639Z
UID:10000170-1727481600-1727654399@smokymtn.cisvusa.org
SUMMARY:2025 Host Planner Training
DESCRIPTION:Save the date for Host Planner Training. This is required for the Village program that we will host in 2025. More information to come\, stay tuned.
URL:https://smokymtn.cisvusa.org/event/2025-host-planner-training/
CATEGORIES:Training
END:VEVENT
BEGIN:VEVENT
DTSTART;TZID=America/New_York:20240413T090000
DTEND;TZID=America/New_York:20240414T130000
DTSTAMP:20260419T162450
CREATED:20231128T201902Z
LAST-MODIFIED:20240331T215313Z
UID:10000102-1712998800-1713099600@smokymtn.cisvusa.org
SUMMARY:National Leadership Training (NLT)
DESCRIPTION:This training is required for program leaders and staff\nas well as those with\nprogram responsibility.\n\n\nOur chapter is hosting NLT April 13-14.\n9am – 5pm on Saturday\n9am – 1pm on Sunday\nWe need volunteers to help with homestays and meals for the 10-15+ trainers\, leaders\, and staff that are attending. Please notify Chris at\nsmokymtn-riskmanager@cisvusa.org if you can host Saturday-Sunday (trainers need Friday too) or help provide meals or need the location.\nFor meals we need volunteers to provide food for\nSaturday breakfast\, lunch\, and dinner and Sunday for breakfast.
URL:https://smokymtn.cisvusa.org/event/national-leadership-training-nlt/
CATEGORIES:Training
END:VEVENT
BEGIN:VEVENT
DTSTART;TZID=America/New_York:20240303T140000
DTEND;TZID=America/New_York:20240303T160000
DTSTAMP:20260419T162450
CREATED:20240227T003837Z
LAST-MODIFIED:20240227T003837Z
UID:10000172-1709474400-1709481600@smokymtn.cisvusa.org
SUMMARY:Delegation Celebration\, Parent Training\, and JB Service Activity
DESCRIPTION:Join us as we celebrate our delegations that will be traveling this summer! We will also have parent training while the JB discuss their service activity. JB will also be doing merch inventory from 1-2 pm. If you need the location\, email smokymtncisv.program@gmail.com or smokymtncisv.communications@gmail.com for more details.
URL:https://smokymtn.cisvusa.org/event/delegation-celebration-parent-training-and-jb-service-activity/
CATEGORIES:JB Activity,Programs,Training
END:VEVENT
BEGIN:VEVENT
DTSTART;TZID=America/New_York:20240105T190000
DTEND;TZID=America/New_York:20240106T083000
DTSTAMP:20260419T162450
CREATED:20231128T201231Z
LAST-MODIFIED:20231230T203643Z
UID:10000101-1704481200-1704529800@smokymtn.cisvusa.org
SUMMARY:Overnight Selection
DESCRIPTION:January 5 – 6\nArrive at 7pm on the 5th – depart at 8:30am on the 6th\n\nRegister online here.\nReach out to Julie at smokymtncisv.program@gmail.com with any questions you have.
URL:https://smokymtn.cisvusa.org/event/overnight-selection-3/
CATEGORIES:Programs
END:VEVENT
BEGIN:VEVENT
DTSTART;VALUE=DATE:20240103
DTEND;VALUE=DATE:20240104
DTSTAMP:20260419T162450
CREATED:20231128T201008Z
LAST-MODIFIED:20231128T201008Z
UID:10000100-1704240000-1704326399@smokymtn.cisvusa.org
SUMMARY:Program Applications Due
DESCRIPTION:View all of our programs this year here to learn more and apply by Jan 3! The deadline for Seminar Camp application is Jan 1! \n 
URL:https://smokymtn.cisvusa.org/event/program-applications-due/
CATEGORIES:Programs
END:VEVENT
BEGIN:VEVENT
DTSTART;VALUE=DATE:20240101
DTEND;VALUE=DATE:20240102
DTSTAMP:20260419T162450
CREATED:20231128T200751Z
LAST-MODIFIED:20231128T200751Z
UID:10000166-1704067200-1704153599@smokymtn.cisvusa.org
SUMMARY:Seminar Camp Application Deadline
DESCRIPTION:Visit smokymtn.cisvusa.org/invitations/2024-seminar-camp to apply!
URL:https://smokymtn.cisvusa.org/event/seminar-camp-application-deadline/
CATEGORIES:Programs
END:VEVENT
BEGIN:VEVENT
DTSTART;TZID=America/New_York:20231109T193000
DTEND;TZID=America/New_York:20231109T210000
DTSTAMP:20260419T162450
CREATED:20231107T213226Z
LAST-MODIFIED:20231107T213226Z
UID:10000164-1699558200-1699563600@smokymtn.cisvusa.org
SUMMARY:2024 Summer Programs Virtual Info Session
DESCRIPTION:Topic: CISV Summer Programs 2024 Info Session\nTime: Nov 9\, 2023 07:30 PM Eastern Time (US and Canada) \nJoin Zoom Meeting\nhttps://us02web.zoom.us/j/2608780015 \nMeeting ID: 260 878 0015 \n— \nOne tap mobile\n+19292056099\,\,2608780015# US (New York)\n+13017158592\,\,2608780015# US (Washington DC) \n— \nDial by your location\n• +1 929 205 6099 US (New York)\n• +1 301 715 8592 US (Washington DC)\n• +1 305 224 1968 US\n• +1 309 205 3325 US\n• +1 312 626 6799 US (Chicago)\n• +1 646 931 3860 US\n• +1 507 473 4847 US\n• +1 564 217 2000 US\n• +1 669 444 9171 US\n• +1 669 900 6833 US (San Jose)\n• +1 689 278 1000 US\n• +1 719 359 4580 US\n• +1 253 205 0468 US\n• +1 253 215 8782 US (Tacoma)\n• +1 346 248 7799 US (Houston)\n• +1 360 209 5623 US\n• +1 386 347 5053 US \nMeeting ID: 260 878 0015 \nFind your local number: https://us02web.zoom.us/u/kBxKRlKQB
URL:https://smokymtn.cisvusa.org/event/2024-summer-programs-virtual-info-session/
CATEGORIES:Programs
END:VEVENT
BEGIN:VEVENT
DTSTART;TZID=America/New_York:20230806T123000
DTEND;TZID=America/New_York:20230806T160000
DTSTAMP:20260419T162450
CREATED:20221024T013230Z
LAST-MODIFIED:20230802T204221Z
UID:10000140-1691325000-1691337600@smokymtn.cisvusa.org
SUMMARY:Welcome Home Party (Delegation Debrief)
DESCRIPTION:Order of Events: \n12 – 12:30pm- Set Up\n12:30 – 1:00pm- Arrival\n1:00 – 2:00pm- Presentations (1pm-2:30pm on Zoom)\n2:00 – 2:30pm- Small group/family swim\n2:30 – 3:30pm- All swim\n3:30 – 4:00pm- Clean up \nFor presentations: \nWe will ask delegations some questions for a 5-10 minute presentation on their program. \nExamples below:\nCamp location and Theme\nFun Fact they learned while there\nMost difficult or challenging activity at camp\nFavorite traded or coveted item\nWhat light bulb moments/realizations they had while at camp\nSomething they wished was handled differently\nSomething they loved/will treasure from camp\nWhy do they want to do another CISV program \nZoom Info for those that can’t make it:\nhttps://us02web.zoom.us/j/88538483005?pwd=S2V1RkdlSVdBdEtuOW5yMjhBSEV0UT09 \nMeeting ID: 885 3848 3005\nPasscode: 077487\nOr call  929-205-6099 to join by phone \nA Google form will be sent in the next few days. Please fill out to streamline this event. Will need 6 Volunteers to help as facilitators in small groups\, sign up on the next email. \nOur Chapter can pick up another Youth Meeting to Hamburg\, Germany from Dec 27\, 23-Jan 4\, 24. Ages 12-13. Any interest? \nReach out to your friends\, Openings are available for Village to Sao Paula\, Brazil Dec 27\, 2023 – Jan 18\, 2024. \nThink about Volunteer commitment for this year. Board positions\, mosaic\, committees\, etc. \nContact Julie Jones with any questions
URL:https://smokymtn.cisvusa.org/event/welcome-home-party-delegation-debrief/
LOCATION:Nicole Underwood’s Pool\, 833 Andover Blvd\, Knoxville\, TN\, 37934
CATEGORIES:JB Activity,Programs
END:VEVENT
BEGIN:VEVENT
DTSTART;TZID=America/New_York:20230717T170000
DTEND;TZID=America/New_York:20230731T120000
DTSTAMP:20260419T162450
CREATED:20221024T013124Z
LAST-MODIFIED:20230709T171157Z
UID:10000139-1689613200-1690804800@smokymtn.cisvusa.org
SUMMARY:Youth Meeting
DESCRIPTION:
URL:https://smokymtn.cisvusa.org/event/youth-meeting/
CATEGORIES:Programs
END:VEVENT
BEGIN:VEVENT
DTSTART;TZID=America/New_York:20230507T120000
DTEND;TZID=America/New_York:20230507T160000
DTSTAMP:20260419T162450
CREATED:20230317T200943Z
LAST-MODIFIED:20230319T050712Z
UID:10000086-1683460800-1683475200@smokymtn.cisvusa.org
SUMMARY:Chapter Development Option 2
DESCRIPTION:Registration is now open for Chapter Development. There are two different dates – April 22nd and May 7th\, both days will have the same content and will occur between 12pm and 4pm.  As many people as possible from local adult chapter leadership and/or upcoming adult leadership are welcome. \nCD Leadership Workshop Registration
URL:https://smokymtn.cisvusa.org/event/chapter-development/
CATEGORIES:Training
END:VEVENT
BEGIN:VEVENT
DTSTART;TZID=America/New_York:20230422T120000
DTEND;TZID=America/New_York:20230422T160000
DTSTAMP:20260419T162450
CREATED:20230319T050709Z
LAST-MODIFIED:20230319T050726Z
UID:10000090-1682164800-1682179200@smokymtn.cisvusa.org
SUMMARY:Chapter Development Option 1
DESCRIPTION:Registration is now open for Chapter Development. There are two different dates – April 22nd and May 7th\, both days will have the same content and will occur between 12pm and 4pm.  As many people as possible from local adult chapter leadership and/or upcoming adult leadership are welcome. \nCD Leadership Workshop Registration
URL:https://smokymtn.cisvusa.org/event/chapter-development-option-1/
CATEGORIES:Training
END:VEVENT
BEGIN:VEVENT
DTSTART;TZID=America/New_York:20230415T090000
DTEND;TZID=America/New_York:20230415T190000
DTSTAMP:20260419T162450
CREATED:20230317T204448Z
LAST-MODIFIED:20230317T204448Z
UID:10000087-1681549200-1681585200@smokymtn.cisvusa.org
SUMMARY:2023 National Leadership Training
DESCRIPTION:Registration for NLT is now open. Click here to register. \nThis training is required for 2023 leaders\, staff\, directors\, and junior counselors. Our chapter is inviting Atlanta and Chattanooga to participate. Select the session that is being held for the Smoky Mountain Chapter.  You will get a confirmation email to confirm your registration. This will be followed up with details about the logistics of the session closer to the training. The training is all day\, running from 9 AM to 7 PM and includes lunch and dinner. On-line International Safeguarding Training and Local Leader Training (March 18) must be completed prior to your session.
URL:https://smokymtn.cisvusa.org/event/2023-national-leadership-training/
CATEGORIES:Training
END:VEVENT
BEGIN:VEVENT
DTSTART;TZID=America/New_York:20230406T193000
DTEND;TZID=America/New_York:20230406T210000
DTSTAMP:20260419T162450
CREATED:20230330T181431Z
LAST-MODIFIED:20230330T181431Z
UID:10000094-1680809400-1680814800@smokymtn.cisvusa.org
SUMMARY:myCISV Training and Support for Delegations
DESCRIPTION:Have questions or issues with getting registered on myCISV? Attend this virtual support session on April 6 at 7:30pm to receive help! \nTopic: myCISV Training and Support for Delegations\nTime: Apr 6\, 2023 07:30 PM Eastern Time (US and Canada) \nJoin Zoom Meeting\nhttps://us02web.zoom.us/j/87474985231?pwd=d3RSc2ZRaW0vMERDZElyR2VJNklYQT09 \nMeeting ID: 874 7498 5231\nPasscode: 592925\nOne tap mobile\n+19292056099\,\,87474985231#\,\,\,\,*592925# US (New York)\n+13017158592\,\,87474985231#\,\,\,\,*592925# US (Washington DC) \nDial by your location\n+1 929 205 6099 US (New York)\n+1 301 715 8592 US (Washington DC)\n+1 305 224 1968 US\n+1 309 205 3325 US\n+1 312 626 6799 US (Chicago)\n+1 646 931 3860 US\n+1 386 347 5053 US\n+1 507 473 4847 US\n+1 564 217 2000 US\n+1 669 444 9171 US\n+1 669 900 6833 US (San Jose)\n+1 689 278 1000 US\n+1 719 359 4580 US\n+1 253 205 0468 US\n+1 253 215 8782 US (Tacoma)\n+1 346 248 7799 US (Houston)\n+1 360 209 5623 US\nMeeting ID: 874 7498 5231\nPasscode: 592925\nFind your local number: https://us02web.zoom.us/u/kTlN716MB
URL:https://smokymtn.cisvusa.org/event/mycisv-training-and-support-for-delegations/
CATEGORIES:Training
END:VEVENT
BEGIN:VEVENT
DTSTART;VALUE=DATE:20230401
DTEND;VALUE=DATE:20230406
DTSTAMP:20260419T162450
CREATED:20230317T223503Z
LAST-MODIFIED:20230317T223503Z
UID:10000088-1680307200-1680739199@smokymtn.cisvusa.org
SUMMARY:Regional Training Forum
DESCRIPTION:Registration for the RTF (Regional Training Forum) in Canada is now open: RTF – Canada – Registration  Trainings that are being offered are Chapter Development\, Risk Manager and Train the Trainer. \nIf you have any questions\, please send an email to RTF Host.
URL:https://smokymtn.cisvusa.org/event/regional-training-forum/
CATEGORIES:Training
END:VEVENT
BEGIN:VEVENT
DTSTART;TZID=America/New_York:20230318T100000
DTEND;TZID=America/New_York:20230318T160000
DTSTAMP:20260419T162450
CREATED:20230317T194112Z
LAST-MODIFIED:20230317T194813Z
UID:10000084-1679133600-1679155200@smokymtn.cisvusa.org
SUMMARY:Local Leadership Training
DESCRIPTION:Local Training for leaders and staff will be very interactive and require participation\, so if possible\, please join from a computer and not a phone. Please look over your program’s guide prior to training\, if you are able! \nTopic: CISV Smoky Mountain LLT\nTime: Mar 18\, 2023 10:00 AM Eastern Time (US and Canada) \nJoin Zoom Meeting\nhttps://us02web.zoom.us/j/81990423023\n\nMeeting ID: 819 9042 3023\nOne tap mobile\n+13052241968\,\,81990423023# US\n+13092053325\,\,81990423023# US \nDial by your location\n+1 305 224 1968 US\n+1 309 205 3325 US\n+1 312 626 6799 US (Chicago)\n+1 646 931 3860 US\n+1 929 205 6099 US (New York)\n+1 301 715 8592 US (Washington DC)\n+1 669 900 6833 US (San Jose)\n+1 689 278 1000 US\n+1 719 359 4580 US\n+1 253 205 0468 US\n+1 253 215 8782 US (Tacoma)\n+1 346 248 7799 US (Houston)\n+1 360 209 5623 US\n+1 386 347 5053 US\n+1 507 473 4847 US\n+1 564 217 2000 US\n+1 669 444 9171 US\nMeeting ID: 819 9042 3023\nFind your local number: https://us02web.zoom.us/u/kgmWyW3e9
URL:https://smokymtn.cisvusa.org/event/local-leadership-training-3/
CATEGORIES:Training
END:VEVENT
BEGIN:VEVENT
DTSTART;VALUE=DATE:20230223
DTEND;VALUE=DATE:20230224
DTSTAMP:20260419T162450
CREATED:20230207T222749Z
LAST-MODIFIED:20230207T222749Z
UID:10000146-1677110400-1677196799@smokymtn.cisvusa.org
SUMMARY:Final Selection
DESCRIPTION:Program selection will occur by February 23\, 2023!
URL:https://smokymtn.cisvusa.org/event/final-selection/
CATEGORIES:Programs
END:VEVENT
BEGIN:VEVENT
DTSTART;VALUE=DATE:20220924
DTEND;VALUE=DATE:20220926
DTSTAMP:20260419T162450
CREATED:20220811T183123Z
LAST-MODIFIED:20220912T164016Z
UID:10000130-1663977600-1664150399@smokymtn.cisvusa.org
SUMMARY:Planner Training
DESCRIPTION:Registration is open for this mandatory virtual workshop for all 2023 Program Planners. Visit CISV USA’s page to find out more and to register. Please register by September 15. \n10 AM – 4:00 PM ET on Saturday\, Sept 24 \n10 AM – 2 PM ET on Sunday\, Sept 25 \nQuestions?  Contact Valerie Maurais\, valeriemaurais21@gmail.com.
URL:https://smokymtn.cisvusa.org/event/planner-training/
CATEGORIES:Programs
END:VEVENT
BEGIN:VEVENT
DTSTART;TZID=America/New_York:20220409T100000
DTEND;TZID=America/New_York:20220409T180000
DTSTAMP:20260419T162450
CREATED:20220228T232745Z
LAST-MODIFIED:20220325T211148Z
UID:10000114-1649498400-1649527200@smokymtn.cisvusa.org
SUMMARY:National Leadership Training
DESCRIPTION:Leaders and staff participating in programs through the Smoky Mountain chapter are required to attend this vital training to give them the necessary skills to be successful in their upcoming programs this summer! The Atlanta and Chattanooga chapters are also invited. \nLocation: 821 Lindenhall Circle\, Knoxville\, TN 37934\nDate: April 9\nTime: 10 am – 6 pm
URL:https://smokymtn.cisvusa.org/event/national-leadership-training-2/
CATEGORIES:Programs
END:VEVENT
BEGIN:VEVENT
DTSTART;VALUE=DATE:20220128
DTEND;VALUE=DATE:20220129
DTSTAMP:20260419T162450
CREATED:20220107T030238Z
LAST-MODIFIED:20220107T030238Z
UID:10000111-1643328000-1643414399@smokymtn.cisvusa.org
SUMMARY:Deadline to apply for programs (except Seminar)
DESCRIPTION:
URL:https://smokymtn.cisvusa.org/event/deadline-to-apply-for-programs-except-seminar/
CATEGORIES:Programs
END:VEVENT
END:VCALENDAR