BEGIN:VCALENDAR
VERSION:2.0
PRODID:-//Smoky Mountain - ECPv6.15.20//NONSGML v1.0//EN
CALSCALE:GREGORIAN
METHOD:PUBLISH
X-WR-CALNAME:Smoky Mountain
X-ORIGINAL-URL:https://smokymtn.cisvusa.org
X-WR-CALDESC:Events for Smoky Mountain
REFRESH-INTERVAL;VALUE=DURATION:PT1H
X-Robots-Tag:noindex
X-PUBLISHED-TTL:PT1H
BEGIN:VTIMEZONE
TZID:America/New_York
BEGIN:DAYLIGHT
TZOFFSETFROM:-0500
TZOFFSETTO:-0400
TZNAME:EDT
DTSTART:20200308T070000
END:DAYLIGHT
BEGIN:STANDARD
TZOFFSETFROM:-0400
TZOFFSETTO:-0500
TZNAME:EST
DTSTART:20201101T060000
END:STANDARD
BEGIN:DAYLIGHT
TZOFFSETFROM:-0500
TZOFFSETTO:-0400
TZNAME:EDT
DTSTART:20210314T070000
END:DAYLIGHT
BEGIN:STANDARD
TZOFFSETFROM:-0400
TZOFFSETTO:-0500
TZNAME:EST
DTSTART:20211107T060000
END:STANDARD
BEGIN:DAYLIGHT
TZOFFSETFROM:-0500
TZOFFSETTO:-0400
TZNAME:EDT
DTSTART:20220313T070000
END:DAYLIGHT
BEGIN:STANDARD
TZOFFSETFROM:-0400
TZOFFSETTO:-0500
TZNAME:EST
DTSTART:20221106T060000
END:STANDARD
END:VTIMEZONE
BEGIN:VEVENT
DTSTART;TZID=America/New_York:20210124T190000
DTEND;TZID=America/New_York:20210124T200000
DTSTAMP:20260422T192542
CREATED:20210120T014828Z
LAST-MODIFIED:20210125T002246Z
UID:10000078-1611514800-1611518400@smokymtn.cisvusa.org
SUMMARY:Board Meeting
DESCRIPTION:Please join the Board Meeting from your computer\, tablet or smartphone. \nhttps://global.gotomeeting.com/join/845969125 \nPassword: CISV \nYou can also dial in using your phone.\nUnited States (Toll Free): 1 866 899 4679\nUnited States: +1 (571) 317-3116 \nAccess Code: 491-792-869 \nPlease review these documents prior to the meeting:\nChapter Development Leadership Call Notes\n1/24/2021 Board Meeting Agenda
URL:https://smokymtn.cisvusa.org/event/board-meeting-5/
ATTACH;FMTTYPE=image/jpeg:https://smokymtn.cisvusa.org/wp-content/uploads/sites/23/2021/01/181_IMG_5230-squashed-scaled.jpg
END:VEVENT
END:VCALENDAR