BEGIN:VCALENDAR
VERSION:2.0
PRODID:-//Smoky Mountain - ECPv6.15.20//NONSGML v1.0//EN
CALSCALE:GREGORIAN
METHOD:PUBLISH
X-WR-CALNAME:Smoky Mountain
X-ORIGINAL-URL:https://smokymtn.cisvusa.org
X-WR-CALDESC:Events for Smoky Mountain
REFRESH-INTERVAL;VALUE=DURATION:PT1H
X-Robots-Tag:noindex
X-PUBLISHED-TTL:PT1H
BEGIN:VTIMEZONE
TZID:America/New_York
BEGIN:DAYLIGHT
TZOFFSETFROM:-0500
TZOFFSETTO:-0400
TZNAME:EDT
DTSTART:20220313T070000
END:DAYLIGHT
BEGIN:STANDARD
TZOFFSETFROM:-0400
TZOFFSETTO:-0500
TZNAME:EST
DTSTART:20221106T060000
END:STANDARD
BEGIN:DAYLIGHT
TZOFFSETFROM:-0500
TZOFFSETTO:-0400
TZNAME:EDT
DTSTART:20230312T070000
END:DAYLIGHT
BEGIN:STANDARD
TZOFFSETFROM:-0400
TZOFFSETTO:-0500
TZNAME:EST
DTSTART:20231105T060000
END:STANDARD
BEGIN:DAYLIGHT
TZOFFSETFROM:-0500
TZOFFSETTO:-0400
TZNAME:EDT
DTSTART:20240310T070000
END:DAYLIGHT
BEGIN:STANDARD
TZOFFSETFROM:-0400
TZOFFSETTO:-0500
TZNAME:EST
DTSTART:20241103T060000
END:STANDARD
END:VTIMEZONE
BEGIN:VEVENT
DTSTART;VALUE=DATE:20230106
DTEND;VALUE=DATE:20230108
DTSTAMP:20260425T193101
CREATED:20221116T153050Z
LAST-MODIFIED:20221231T155206Z
UID:10000143-1672963200-1673135999@smokymtn.cisvusa.org
SUMMARY:Fun Day Overnight
DESCRIPTION:Come join our Fun Days to learn more about CISV\, 2023 programs\, have fun and make friends! Fun Day Overnight is for all ages\, including JC’s and leaders. Be sure to bring your friends along as well! This overnight event is a great introduction to what a CISV camp might be like. \nPlease register here. \nThank you for your interest in our upcoming Fun Day Overnight event January 6 from 7 pm to January 7 at 8:30 am to learn more about CISV\, 2023 programs\, have fun\, and make friends! Three of our programs will be in Italy this year\, so we will be making pizzas in honor of that! Bring your favorite toppings to include on your personal pizza! We need 12-13 adult volunteers to chaperone\, help with interview program participants\, help make pizzas\, and one to bring breakfast in the morning at 7:30 before 8:30 pickup. If helping set up\, please arrive 30 minutes early.  Be sure to bring friends along! \n\nOvernight participants will need to bring:  \n1. Forms (below) to stay the night\n2. PJ\n3. Sleeping bag/pillows\, cots —it gets cold\n4. Medication and toiletries\n5.  Pizza topping\n6.  Gift card for Smoky Mountain 2023 Youth Meeting—Amazon\, Target\, Wa:lmart\, Visa\n7.  If your last name starts from A-L—bring drinks to share\, If your last name starts with M-Z bring snacks to share\n8.  Join our chapter or Renew your existing membership to participate. All those trying out for programs must have a family membership valid through 2024. Potential leaders may have individual memberships for one year.\nForms (either print and bring or email the address below):\nPermission form\nMedia Release Form (or check yes on this form to the relevant question) \n\nBackground Check Form (potential leaders and chaperones)\n\nCovid Waiver \n\nEmail smokymtncisv.program@gmail.com if you need the location or to submit forms digitally.
URL:https://smokymtn.cisvusa.org/event/fun-day-overnight/
CATEGORIES:Fun Day
END:VEVENT
BEGIN:VEVENT
DTSTART;TZID=America/New_York:20230119T193000
DTEND;TZID=America/New_York:20230119T213000
DTSTAMP:20260425T193101
CREATED:20221023T190218Z
LAST-MODIFIED:20230119T231511Z
UID:10000133-1674156600-1674163800@smokymtn.cisvusa.org
SUMMARY:January Board Meeting
DESCRIPTION:Join us for our monthly board meeting via Zoom! You can find the agenda here. \n  \nThe Zoom information to join each month will be the same. Below are the details to join via phone or computer: \nTopic: CISV Smoky Mtn Board Meetings \nTime: Nov 17\, 2022 07:30 PM Eastern Time (US and Canada)\n        Nov 17\, 2022 07:30 PM\n        Jan 19\, 2023 07:30 PM\n        Feb 16\, 2023 07:30 PM\n        Mar 23\, 2023 07:30 PM\n        Apr 20\, 2023 07:30 PM\n        May 18\, 2023 07:30 PM\nPlease download and import the following iCalendar (.ics) files to your calendar system.\nMonthly: https://us02web.zoom.us/meeting/tZIsceqrqDsvHdwCIAm4juJhYxfR1VyeshTL/ics?icsToken=98tyKuGurz0pGdKVtR6PRpwABY_ob-nwpmJYgqdKvzbEDnRZdyn-D_pEAONJCd3D\n\nJoin Zoom Meeting\nhttps://us02web.zoom.us/j/86163360578?pwd=NlA2MTI1cS9WdkpFOXRIcnZKVGVqdz09\n\nMeeting ID: 861 6336 0578\nPasscode: 174976\nOne tap mobile\n+13126266799\,\,86163360578#\,\,\,\,*174976# US (Chicago)\n+16469313860\,\,86163360578#\,\,\,\,*174976# US\n\nDial by your location\n        +1 312 626 6799 US (Chicago)\n        +1 646 931 3860 US\n        +1 929 205 6099 US (New York)\n        +1 301 715 8592 US (Washington DC)\n        +1 309 205 3325 US\n        +1 360 209 5623 US\n        +1 386 347 5053 US\n        +1 507 473 4847 US\n        +1 564 217 2000 US\n        +1 669 444 9171 US\n        +1 669 900 6833 US (San Jose)\n        +1 689 278 1000 US\n        +1 719 359 4580 US\n        +1 253 215 8782 US (Tacoma)\n        +1 346 248 7799 US (Houston)\nMeeting ID: 861 6336 0578\nPasscode: 174976\nFind your local number: https://us02web.zoom.us/u/kiSNDEYe6
URL:https://smokymtn.cisvusa.org/event/january-board-meeting/
CATEGORIES:Board Meeting and JB Board Meeting
END:VEVENT
END:VCALENDAR