BEGIN:VCALENDAR
VERSION:2.0
PRODID:-//Smoky Mountain - ECPv6.15.20//NONSGML v1.0//EN
CALSCALE:GREGORIAN
METHOD:PUBLISH
X-WR-CALNAME:Smoky Mountain
X-ORIGINAL-URL:https://smokymtn.cisvusa.org
X-WR-CALDESC:Events for Smoky Mountain
REFRESH-INTERVAL;VALUE=DURATION:PT1H
X-Robots-Tag:noindex
X-PUBLISHED-TTL:PT1H
BEGIN:VTIMEZONE
TZID:America/New_York
BEGIN:DAYLIGHT
TZOFFSETFROM:-0500
TZOFFSETTO:-0400
TZNAME:EDT
DTSTART:20220313T070000
END:DAYLIGHT
BEGIN:STANDARD
TZOFFSETFROM:-0400
TZOFFSETTO:-0500
TZNAME:EST
DTSTART:20221106T060000
END:STANDARD
BEGIN:DAYLIGHT
TZOFFSETFROM:-0500
TZOFFSETTO:-0400
TZNAME:EDT
DTSTART:20230312T070000
END:DAYLIGHT
BEGIN:STANDARD
TZOFFSETFROM:-0400
TZOFFSETTO:-0500
TZNAME:EST
DTSTART:20231105T060000
END:STANDARD
BEGIN:DAYLIGHT
TZOFFSETFROM:-0500
TZOFFSETTO:-0400
TZNAME:EDT
DTSTART:20240310T070000
END:DAYLIGHT
BEGIN:STANDARD
TZOFFSETFROM:-0400
TZOFFSETTO:-0500
TZNAME:EST
DTSTART:20241103T060000
END:STANDARD
END:VTIMEZONE
BEGIN:VEVENT
DTSTART;TZID=America/New_York:20230507T120000
DTEND;TZID=America/New_York:20230507T160000
DTSTAMP:20260421T004928
CREATED:20230317T200943Z
LAST-MODIFIED:20230319T050712Z
UID:10000086-1683460800-1683475200@smokymtn.cisvusa.org
SUMMARY:Chapter Development Option 2
DESCRIPTION:Registration is now open for Chapter Development. There are two different dates – April 22nd and May 7th\, both days will have the same content and will occur between 12pm and 4pm.  As many people as possible from local adult chapter leadership and/or upcoming adult leadership are welcome. \nCD Leadership Workshop Registration
URL:https://smokymtn.cisvusa.org/event/chapter-development/
CATEGORIES:Training
END:VEVENT
BEGIN:VEVENT
DTSTART;VALUE=DATE:20230518
DTEND;VALUE=DATE:20230519
DTSTAMP:20260421T004928
CREATED:20221024T012722Z
LAST-MODIFIED:20230518T155019Z
UID:10000136-1684368000-1684454399@smokymtn.cisvusa.org
SUMMARY:May Board Meeting
DESCRIPTION:The board meeting originally scheduled for May 18 will be rescheduled. Stay tuned for an update soon.
URL:https://smokymtn.cisvusa.org/event/may-board-meeting-2/
CATEGORIES:Board Meeting and JB Board Meeting
END:VEVENT
BEGIN:VEVENT
DTSTART;TZID=America/New_York:20230525T193000
DTEND;TZID=America/New_York:20230525T213000
DTSTAMP:20260421T004928
CREATED:20230525T175307Z
LAST-MODIFIED:20230525T175307Z
UID:10000096-1685043000-1685050200@smokymtn.cisvusa.org
SUMMARY:Rescheduled May Board Meeting
DESCRIPTION:Join us for our rescheduled monthly board meeting via Zoom! \nThe Zoom information to join each month will be the same. Below are the details to join via phone or computer: \nTopic: CISV Smoky Mtn Board Meetings \nTime: Nov 17\, 2022 07:30 PM Eastern Time (US and Canada)\n        Nov 17\, 2022 07:30 PM\n        Jan 19\, 2023 07:30 PM\n        Feb 16\, 2023 07:30 PM\n        Mar 23\, 2023 07:30 PM\n        Apr 20\, 2023 07:30 PM\n        May 25\, 2023 07:30 PM\nPlease download and import the following iCalendar (.ics) files to your calendar system.\nMonthly: https://us02web.zoom.us/meeting/tZIsceqrqDsvHdwCIAm4juJhYxfR1VyeshTL/ics?icsToken=98tyKuGurz0pGdKVtR6PRpwABY_ob-nwpmJYgqdKvzbEDnRZdyn-D_pEAONJCd3D\n\nJoin Zoom Meeting\nhttps://us02web.zoom.us/j/86163360578?pwd=NlA2MTI1cS9WdkpFOXRIcnZKVGVqdz09\n\nMeeting ID: 861 6336 0578\nPasscode: 174976\nOne tap mobile\n+13126266799\,\,86163360578#\,\,\,\,*174976# US (Chicago)\n+16469313860\,\,86163360578#\,\,\,\,*174976# US\n\nDial by your location\n        +1 312 626 6799 US (Chicago)\n        +1 646 931 3860 US\n        +1 929 205 6099 US (New York)\n        +1 301 715 8592 US (Washington DC)\n        +1 309 205 3325 US\n        +1 360 209 5623 US\n        +1 386 347 5053 US\n        +1 507 473 4847 US\n        +1 564 217 2000 US\n        +1 669 444 9171 US\n        +1 669 900 6833 US (San Jose)\n        +1 689 278 1000 US\n        +1 719 359 4580 US\n        +1 253 215 8782 US (Tacoma)\n        +1 346 248 7799 US (Houston)\nMeeting ID: 861 6336 0578\nPasscode: 174976\nFind your local number: https://us02web.zoom.us/u/kiSNDEYe6
URL:https://smokymtn.cisvusa.org/event/rescheduled-may-board-meeting/
CATEGORIES:Board Meeting and JB Board Meeting
END:VEVENT
END:VCALENDAR