BEGIN:VCALENDAR
VERSION:2.0
PRODID:-//Smoky Mountain - ECPv6.15.20//NONSGML v1.0//EN
CALSCALE:GREGORIAN
METHOD:PUBLISH
X-WR-CALNAME:Smoky Mountain
X-ORIGINAL-URL:https://smokymtn.cisvusa.org
X-WR-CALDESC:Events for Smoky Mountain
REFRESH-INTERVAL;VALUE=DURATION:PT1H
X-Robots-Tag:noindex
X-PUBLISHED-TTL:PT1H
BEGIN:VTIMEZONE
TZID:America/New_York
BEGIN:DAYLIGHT
TZOFFSETFROM:-0500
TZOFFSETTO:-0400
TZNAME:EDT
DTSTART:20230312T070000
END:DAYLIGHT
BEGIN:STANDARD
TZOFFSETFROM:-0400
TZOFFSETTO:-0500
TZNAME:EST
DTSTART:20231105T060000
END:STANDARD
BEGIN:DAYLIGHT
TZOFFSETFROM:-0500
TZOFFSETTO:-0400
TZNAME:EDT
DTSTART:20240310T070000
END:DAYLIGHT
BEGIN:STANDARD
TZOFFSETFROM:-0400
TZOFFSETTO:-0500
TZNAME:EST
DTSTART:20241103T060000
END:STANDARD
BEGIN:DAYLIGHT
TZOFFSETFROM:-0500
TZOFFSETTO:-0400
TZNAME:EDT
DTSTART:20250309T070000
END:DAYLIGHT
BEGIN:STANDARD
TZOFFSETFROM:-0400
TZOFFSETTO:-0500
TZNAME:EST
DTSTART:20251102T060000
END:STANDARD
END:VTIMEZONE
BEGIN:VEVENT
DTSTART;TZID=America/New_York:20240303T140000
DTEND;TZID=America/New_York:20240303T160000
DTSTAMP:20260426T002123
CREATED:20240227T003837Z
LAST-MODIFIED:20240227T003837Z
UID:10000172-1709474400-1709481600@smokymtn.cisvusa.org
SUMMARY:Delegation Celebration\, Parent Training\, and JB Service Activity
DESCRIPTION:Join us as we celebrate our delegations that will be traveling this summer! We will also have parent training while the JB discuss their service activity. JB will also be doing merch inventory from 1-2 pm. If you need the location\, email smokymtncisv.program@gmail.com or smokymtncisv.communications@gmail.com for more details.
URL:https://smokymtn.cisvusa.org/event/delegation-celebration-parent-training-and-jb-service-activity/
CATEGORIES:JB Activity,Programs,Training
END:VEVENT
BEGIN:VEVENT
DTSTART;TZID=America/New_York:20240318T203000
DTEND;TZID=America/New_York:20240318T213000
DTSTAMP:20260426T002123
CREATED:20240227T005725Z
LAST-MODIFIED:20240227T005725Z
UID:10000173-1710793800-1710797400@smokymtn.cisvusa.org
SUMMARY:JB Board Meeting
DESCRIPTION:The JB (Junior Branch) will hold a board meeting via Zoom on March 18 at 8:30pm. Send an email to smokymtncisv.communications@gmail.com if you would like to attend.
URL:https://smokymtn.cisvusa.org/event/jb-board-meeting-2/
CATEGORIES:Board Meeting and JB Board Meeting
END:VEVENT
BEGIN:VEVENT
DTSTART;TZID=America/New_York:20240320T193000
DTEND;TZID=America/New_York:20240320T213000
DTSTAMP:20260426T002123
CREATED:20230819T171232Z
LAST-MODIFIED:20230819T171232Z
UID:10000157-1710963000-1710970200@smokymtn.cisvusa.org
SUMMARY:March Board Meeting
DESCRIPTION:Topic: Smoky Mtn CISV Board Meeting + JB\nTime: Aug 23\, 2023 07:30 PM Eastern Time (US and Canada)\n        Aug 23\, 2023 07:30 PM\n        Sep 20\, 2023 07:30 PM\n        Oct 18\, 2023 07:30 PM\n        Nov 15\, 2023 07:30 PM\n        Dec 20\, 2023 07:30 PM\n        Jan 17\, 2024 07:30 PM\n        Feb 21\, 2024 07:30 PM\n        Mar 20\, 2024 07:30 PM\n        Apr 17\, 2024 07:30 PM\nPlease download and import the following iCalendar (.ics) files to your calendar system.\nMonthly: https://us02web.zoom.us/meeting/tZUkceihqDguEtOKqDJp72JvE8jyOWPvXStK/ics?icsToken=98tyKuGppz0rE9KWtBGARpwcHY_od_PwpnZbj7dytw7BKTAEMCngE7pIK51IIM7o \nJoin Zoom Meeting\nhttps://us02web.zoom.us/j/81961963487?pwd=Qy9XTXBxVGFWWUxuNlFIdkRTOWFxQT09 \nMeeting ID: 819 6196 3487\nPasscode: 203626 \n— \nOne tap mobile\n+13052241968\,\,81961963487#\,\,\,\,*203626# US\n+13092053325\,\,81961963487#\,\,\,\,*203626# US \n— \nDial by your location\n• +1 305 224 1968 US\n• +1 309 205 3325 US\n• +1 312 626 6799 US (Chicago)\n• +1 646 931 3860 US\n• +1 929 205 6099 US (New York)\n• +1 301 715 8592 US (Washington DC)\n• +1 360 209 5623 US\n• +1 386 347 5053 US\n• +1 507 473 4847 US\n• +1 564 217 2000 US\n• +1 669 444 9171 US\n• +1 669 900 6833 US (San Jose)\n• +1 689 278 1000 US\n• +1 719 359 4580 US\n• +1 253 205 0468 US\n• +1 253 215 8782 US (Tacoma)\n• +1 346 248 7799 US (Houston) \nMeeting ID: 819 6196 3487\nPasscode: 203626 \nFind your local number: https://us02web.zoom.us/u/kcKUVR1kAl
URL:https://smokymtn.cisvusa.org/event/march-board-meeting-5/
CATEGORIES:Board Meeting and JB Board Meeting
END:VEVENT
BEGIN:VEVENT
DTSTART;VALUE=DATE:20240323
DTEND;VALUE=DATE:20240325
DTSTAMP:20260426T002123
CREATED:20240117T030057Z
LAST-MODIFIED:20240117T030057Z
UID:10000168-1711152000-1711324799@smokymtn.cisvusa.org
SUMMARY:Mini Camp
DESCRIPTION:Tentative dates: March 23 – 24 \nMark your calendars and check back here for more information closer to the date.
URL:https://smokymtn.cisvusa.org/event/mini-camp-5/
CATEGORIES:Mini Camp
END:VEVENT
END:VCALENDAR