BEGIN:VCALENDAR
VERSION:2.0
PRODID:-//Smoky Mountain - ECPv6.15.20//NONSGML v1.0//EN
CALSCALE:GREGORIAN
METHOD:PUBLISH
X-WR-CALNAME:Smoky Mountain
X-ORIGINAL-URL:https://smokymtn.cisvusa.org
X-WR-CALDESC:Events for Smoky Mountain
REFRESH-INTERVAL;VALUE=DURATION:PT1H
X-Robots-Tag:noindex
X-PUBLISHED-TTL:PT1H
BEGIN:VTIMEZONE
TZID:America/New_York
BEGIN:DAYLIGHT
TZOFFSETFROM:-0500
TZOFFSETTO:-0400
TZNAME:EDT
DTSTART:20230312T070000
END:DAYLIGHT
BEGIN:STANDARD
TZOFFSETFROM:-0400
TZOFFSETTO:-0500
TZNAME:EST
DTSTART:20231105T060000
END:STANDARD
BEGIN:DAYLIGHT
TZOFFSETFROM:-0500
TZOFFSETTO:-0400
TZNAME:EDT
DTSTART:20240310T070000
END:DAYLIGHT
BEGIN:STANDARD
TZOFFSETFROM:-0400
TZOFFSETTO:-0500
TZNAME:EST
DTSTART:20241103T060000
END:STANDARD
BEGIN:DAYLIGHT
TZOFFSETFROM:-0500
TZOFFSETTO:-0400
TZNAME:EDT
DTSTART:20250309T070000
END:DAYLIGHT
BEGIN:STANDARD
TZOFFSETFROM:-0400
TZOFFSETTO:-0500
TZNAME:EST
DTSTART:20251102T060000
END:STANDARD
END:VTIMEZONE
BEGIN:VEVENT
DTSTART;TZID=America/New_York:20240413T090000
DTEND;TZID=America/New_York:20240414T130000
DTSTAMP:20260425T190431
CREATED:20231128T201902Z
LAST-MODIFIED:20240331T215313Z
UID:10000102-1712998800-1713099600@smokymtn.cisvusa.org
SUMMARY:National Leadership Training (NLT)
DESCRIPTION:This training is required for program leaders and staff\nas well as those with\nprogram responsibility.\n\n\nOur chapter is hosting NLT April 13-14.\n9am – 5pm on Saturday\n9am – 1pm on Sunday\nWe need volunteers to help with homestays and meals for the 10-15+ trainers\, leaders\, and staff that are attending. Please notify Chris at\nsmokymtn-riskmanager@cisvusa.org if you can host Saturday-Sunday (trainers need Friday too) or help provide meals or need the location.\nFor meals we need volunteers to provide food for\nSaturday breakfast\, lunch\, and dinner and Sunday for breakfast.
URL:https://smokymtn.cisvusa.org/event/national-leadership-training-nlt/
CATEGORIES:Training
END:VEVENT
BEGIN:VEVENT
DTSTART;TZID=America/New_York:20240417T193000
DTEND;TZID=America/New_York:20240417T213000
DTSTAMP:20260425T190431
CREATED:20230819T171257Z
LAST-MODIFIED:20230819T171257Z
UID:10000158-1713382200-1713389400@smokymtn.cisvusa.org
SUMMARY:April Board Meeting
DESCRIPTION:Topic: Smoky Mtn CISV Board Meeting + JB\nTime: Aug 23\, 2023 07:30 PM Eastern Time (US and Canada)\n        Aug 23\, 2023 07:30 PM\n        Sep 20\, 2023 07:30 PM\n        Oct 18\, 2023 07:30 PM\n        Nov 15\, 2023 07:30 PM\n        Dec 20\, 2023 07:30 PM\n        Jan 17\, 2024 07:30 PM\n        Feb 21\, 2024 07:30 PM\n        Mar 20\, 2024 07:30 PM\n        Apr 17\, 2024 07:30 PM\nPlease download and import the following iCalendar (.ics) files to your calendar system.\nMonthly: https://us02web.zoom.us/meeting/tZUkceihqDguEtOKqDJp72JvE8jyOWPvXStK/ics?icsToken=98tyKuGppz0rE9KWtBGARpwcHY_od_PwpnZbj7dytw7BKTAEMCngE7pIK51IIM7o \nJoin Zoom Meeting\nhttps://us02web.zoom.us/j/81961963487?pwd=Qy9XTXBxVGFWWUxuNlFIdkRTOWFxQT09 \nMeeting ID: 819 6196 3487\nPasscode: 203626 \n— \nOne tap mobile\n+13052241968\,\,81961963487#\,\,\,\,*203626# US\n+13092053325\,\,81961963487#\,\,\,\,*203626# US \n— \nDial by your location\n• +1 305 224 1968 US\n• +1 309 205 3325 US\n• +1 312 626 6799 US (Chicago)\n• +1 646 931 3860 US\n• +1 929 205 6099 US (New York)\n• +1 301 715 8592 US (Washington DC)\n• +1 360 209 5623 US\n• +1 386 347 5053 US\n• +1 507 473 4847 US\n• +1 564 217 2000 US\n• +1 669 444 9171 US\n• +1 669 900 6833 US (San Jose)\n• +1 689 278 1000 US\n• +1 719 359 4580 US\n• +1 253 205 0468 US\n• +1 253 215 8782 US (Tacoma)\n• +1 346 248 7799 US (Houston) \nMeeting ID: 819 6196 3487\nPasscode: 203626 \nFind your local number: https://us02web.zoom.us/u/kcKUVR1kAl
URL:https://smokymtn.cisvusa.org/event/april-board-meeting-4/
CATEGORIES:Board Meeting and JB Board Meeting
END:VEVENT
BEGIN:VEVENT
DTSTART;TZID=America/New_York:20240422T193000
DTEND;TZID=America/New_York:20240422T213000
DTSTAMP:20260425T190432
CREATED:20240329T033440Z
LAST-MODIFIED:20240329T033440Z
UID:10000174-1713814200-1713821400@smokymtn.cisvusa.org
SUMMARY:Mosaic Meeting - April
DESCRIPTION:Topic: Mosaic Meeting\nTime: Mar 25\, 2024 07:30 PM Eastern Time (US and Canada)\nEvery month on the Fourth Mon\, until Jul 22\, 2024\, 5 occurrence(s)\nMar 25\, 2024 07:30 PM\nApr 22\, 2024 07:30 PM\nMay 27\, 2024 07:30 PM\nJun 24\, 2024 07:30 PM\nJul 22\, 2024 07:30 PM\nPlease download and import the following iCalendar (.ics) files to your calendar system.\nMonthly: https://us02web.zoom.us/meeting/tZEqc-isqTIuH9TgWeXiUq_1MY9IC5kLMy8V/ics?icsToken=98tyKuGtqT8rHtOctByHRpwMB4-gd-jwtlhbgvppmyjgOylmczynG9sbG5EqG_T9 \nJoin Zoom Meeting\nhttps://us02web.zoom.us/j/85741479450?pwd=eDNuTk1qcFVHQVl1MzM5WHNBUS9Idz09 \nMeeting ID: 857 4147 9450\nPasscode: 937495 \n— \nOne tap mobile\n+13017158592\,\,85741479450#\,\,\,\,*937495# US (Washington DC)\n+13052241968\,\,85741479450#\,\,\,\,*937495# US \n— \nDial by your location\n• +1 301 715 8592 US (Washington DC)\n• +1 305 224 1968 US\n• +1 309 205 3325 US\n• +1 312 626 6799 US (Chicago)\n• +1 646 931 3860 US\n• +1 929 205 6099 US (New York)\n• +1 253 205 0468 US\n• +1 253 215 8782 US (Tacoma)\n• +1 346 248 7799 US (Houston)\n• +1 360 209 5623 US\n• +1 386 347 5053 US\n• +1 507 473 4847 US\n• +1 564 217 2000 US\n• +1 669 444 9171 US\n• +1 669 900 6833 US (San Jose)\n• +1 689 278 1000 US\n• +1 719 359 4580 US \nMeeting ID: 857 4147 9450\nPasscode: 937495 \nFind your local number: https://us02web.zoom.us/u/kb2ysFtAx
URL:https://smokymtn.cisvusa.org/event/mosaic-meeting-april/
CATEGORIES:Board Meeting and JB Board Meeting
END:VEVENT
BEGIN:VEVENT
DTSTART;TZID=America/New_York:20240428T140000
DTEND;TZID=America/New_York:20240428T160000
DTSTAMP:20260425T190432
CREATED:20231128T202158Z
LAST-MODIFIED:20240427T142826Z
UID:10000104-1714312800-1714320000@smokymtn.cisvusa.org
SUMMARY:Spring Chapter Meeting
DESCRIPTION: 
URL:https://smokymtn.cisvusa.org/event/spring-chapter-meeting-5/
LOCATION:Ijams Nature Center\, 2915 Island Home Avenue\, Knoxville\, 37920\, United States
CATEGORIES:Chapter Meeting
GEO:35.9564588;-83.8668073
X-APPLE-STRUCTURED-LOCATION;VALUE=URI;X-ADDRESS=Ijams Nature Center 2915 Island Home Avenue Knoxville 37920 United States;X-APPLE-RADIUS=500;X-TITLE=2915 Island Home Avenue:geo:-83.8668073,35.9564588
END:VEVENT
END:VCALENDAR