BEGIN:VCALENDAR
VERSION:2.0
PRODID:-//Smoky Mountain - ECPv6.15.20//NONSGML v1.0//EN
CALSCALE:GREGORIAN
METHOD:PUBLISH
X-WR-CALNAME:Smoky Mountain
X-ORIGINAL-URL:https://smokymtn.cisvusa.org
X-WR-CALDESC:Events for Smoky Mountain
REFRESH-INTERVAL;VALUE=DURATION:PT1H
X-Robots-Tag:noindex
X-PUBLISHED-TTL:PT1H
BEGIN:VTIMEZONE
TZID:America/New_York
BEGIN:DAYLIGHT
TZOFFSETFROM:-0500
TZOFFSETTO:-0400
TZNAME:EDT
DTSTART:20230312T070000
END:DAYLIGHT
BEGIN:STANDARD
TZOFFSETFROM:-0400
TZOFFSETTO:-0500
TZNAME:EST
DTSTART:20231105T060000
END:STANDARD
BEGIN:DAYLIGHT
TZOFFSETFROM:-0500
TZOFFSETTO:-0400
TZNAME:EDT
DTSTART:20240310T070000
END:DAYLIGHT
BEGIN:STANDARD
TZOFFSETFROM:-0400
TZOFFSETTO:-0500
TZNAME:EST
DTSTART:20241103T060000
END:STANDARD
BEGIN:DAYLIGHT
TZOFFSETFROM:-0500
TZOFFSETTO:-0400
TZNAME:EDT
DTSTART:20250309T070000
END:DAYLIGHT
BEGIN:STANDARD
TZOFFSETFROM:-0400
TZOFFSETTO:-0500
TZNAME:EST
DTSTART:20251102T060000
END:STANDARD
END:VTIMEZONE
BEGIN:VEVENT
DTSTART;TZID=America/New_York:20241103T143000
DTEND;TZID=America/New_York:20241103T163000
DTSTAMP:20260421T002903
CREATED:20240915T170825Z
LAST-MODIFIED:20241029T023734Z
UID:10000189-1730644200-1730651400@smokymtn.cisvusa.org
SUMMARY:Fun Day #1 & Program Reveal
DESCRIPTION:Save the date for this year’s first Fun Day! \nFun Days are a great opportunity for families and leader applicants to learn more about CISV\, meet other CISVers\, and have lots of fun while learning. All are welcome! We will reveal the programs for the next year at this event as well.
URL:https://smokymtn.cisvusa.org/event/fun-day-program-reveal/
CATEGORIES:Fun Day
END:VEVENT
BEGIN:VEVENT
DTSTART;TZID=America/New_York:20241108T190000
DTEND;TZID=America/New_York:20241110T140000
DTSTAMP:20260421T002903
CREATED:20240913T030629Z
LAST-MODIFIED:20240915T204900Z
UID:10000188-1731092400-1731247200@smokymtn.cisvusa.org
SUMMARY:Southeast Regional Mini Camp
DESCRIPTION:2024 Atlanta SRMC\n\nCISV Southeast Regional Mini Camp! \n\nFriday\, November 8 @ 7pm – November 10 @ 2pm \n\nRegister now to get the early bird special!\nCost includes lodging\, meals and activities. Registration fees vary by registration date.\n\nPlease have a look and make the payment in the amount indicated by date:\n\n\n$240 if registered by 9/30/2024 (payment received between 9/2-9/30)\n$255 if registered by 10/18/2024 (payment received between 10/1-10/18)\n\n\nAll payments must be received by October 18th in order to be able to join us for SRMC.\nHowever\, please note\, only participants that submitted all documents (the registration form & the youth legal form) and have paid the registration fee are considered fully registered. Participation is first-come\, first-serve\, and we have a fixed capacity. If you complete all enrollment steps after we have reached capacity\, the participant you are registering will be placed on a waitlist and can only join if a spot opens up.\n\n\n\n\nFor more information and to register & make the payment please visit our website by clicking HERE.\n\nParticipants will receive a “PreCamp” with additional mini camp and carpooling information\, via email.\n\nWe have a fantastic group of local junior representatives from the southeast who have been busy planning and are so excited for this event! \nSeeking Chaperones! \nLastly\, please consider being a chaperone. One chaperone for every 8 participants from our chapter are needed. We will need to ensure we have a good balance of male & female chaperones as well. So\, if we are sending 16 participants\, please strive to have one male & one female chaperone. Chapter sharing chaperones is an option\, but let CISV Atlanta know what is needed for your chapter. Chaperones should fill out the Adult Legal Form. If a chaperone wishes to purchase a shirt\, they will need to pay for the shirt and let me know their size.
URL:https://smokymtn.cisvusa.org/event/southeast-regional-mini-camp/
CATEGORIES:JB Activity,Mini Camp
END:VEVENT
BEGIN:VEVENT
DTSTART;TZID=America/New_York:20241117T130000
DTEND;TZID=America/New_York:20241117T150000
DTSTAMP:20260421T002903
CREATED:20240915T170957Z
LAST-MODIFIED:20241029T023819Z
UID:10000190-1731848400-1731855600@smokymtn.cisvusa.org
SUMMARY:Fun Day #2
DESCRIPTION:Save the date for this year’s second Fun Day! \nFun Days are a great opportunity for families and leader applicants to learn more about CISV\, meet other CISVers\, and have lots of fun while learning. All are welcome!
URL:https://smokymtn.cisvusa.org/event/fun-day-2-5/
CATEGORIES:Fun Day
END:VEVENT
BEGIN:VEVENT
DTSTART;TZID=America/New_York:20241121T200000
DTEND;TZID=America/New_York:20241121T213000
DTSTAMP:20260421T002903
CREATED:20240913T024759Z
LAST-MODIFIED:20240915T171225Z
UID:10000180-1732219200-1732224600@smokymtn.cisvusa.org
SUMMARY:November Board Meeting
DESCRIPTION:*Note this meeting is taking place on Thursday this time* \nTopic: CISV Smoky Mtn Board Meeting\nTime: Nov 21\, 2024 08:00 PM Eastern Time (US and Canada) \nEvery month on the Third Wed\, 8 occurrence(s)\nPlease download and import the following iCalendar (.ics) files to your calendar system.\nMonthly: https://us02web.zoom.us/meeting/tZUtdeiuqz4iHNShbXWSLcC-tiuKLXNDuIe6/ics?icsToken=98tyKuGprjkrHNGQuB-HRpwcAojod-7wmCVHgo1ulB3dNBN_YSC7IutXGZ5HPvzF&meetingMasterEventId=13zEMzDkQUqO-Vy19uLvFw \nJoin Zoom Meeting\nhttps://us02web.zoom.us/j/81021655860?pwd=ebwCZSJbObbaKkn2ZhuwvIT43Zal1W.1 \nMeeting ID: 810 2165 5860\nPasscode: 612026 \n— \nOne tap mobile\n+13017158592\,\,81021655860#\,\,\,\,*612026# US (Washington DC)\n+13052241968\,\,81021655860#\,\,\,\,*612026# US \n— \nDial by your location\n• +1 301 715 8592 US (Washington DC)\n• +1 305 224 1968 US\n• +1 309 205 3325 US\n• +1 312 626 6799 US (Chicago)\n• +1 646 931 3860 US\n• +1 929 205 6099 US (New York)\n• +1 689 278 1000 US\n• +1 719 359 4580 US\n• +1 253 205 0468 US\n• +1 253 215 8782 US (Tacoma)\n• +1 346 248 7799 US (Houston)\n• +1 360 209 5623 US\n• +1 386 347 5053 US\n• +1 507 473 4847 US\n• +1 564 217 2000 US\n• +1 669 444 9171 US\n• +1 669 900 6833 US (San Jose) \nMeeting ID: 810 2165 5860\nPasscode: 612026 \nFind your local number: https://us02web.zoom.us/u/kS8J8h7Lm
URL:https://smokymtn.cisvusa.org/event/november-board-meeting-3/
CATEGORIES:Board Meeting and JB Board Meeting
END:VEVENT
END:VCALENDAR