BEGIN:VCALENDAR
VERSION:2.0
PRODID:-//Smoky Mountain - ECPv6.15.20//NONSGML v1.0//EN
CALSCALE:GREGORIAN
METHOD:PUBLISH
X-WR-CALNAME:Smoky Mountain
X-ORIGINAL-URL:https://smokymtn.cisvusa.org
X-WR-CALDESC:Events for Smoky Mountain
REFRESH-INTERVAL;VALUE=DURATION:PT1H
X-Robots-Tag:noindex
X-PUBLISHED-TTL:PT1H
BEGIN:VTIMEZONE
TZID:America/New_York
BEGIN:DAYLIGHT
TZOFFSETFROM:-0500
TZOFFSETTO:-0400
TZNAME:EDT
DTSTART:20240310T070000
END:DAYLIGHT
BEGIN:STANDARD
TZOFFSETFROM:-0400
TZOFFSETTO:-0500
TZNAME:EST
DTSTART:20241103T060000
END:STANDARD
BEGIN:DAYLIGHT
TZOFFSETFROM:-0500
TZOFFSETTO:-0400
TZNAME:EDT
DTSTART:20250309T070000
END:DAYLIGHT
BEGIN:STANDARD
TZOFFSETFROM:-0400
TZOFFSETTO:-0500
TZNAME:EST
DTSTART:20251102T060000
END:STANDARD
BEGIN:DAYLIGHT
TZOFFSETFROM:-0500
TZOFFSETTO:-0400
TZNAME:EDT
DTSTART:20260308T070000
END:DAYLIGHT
BEGIN:STANDARD
TZOFFSETFROM:-0400
TZOFFSETTO:-0500
TZNAME:EST
DTSTART:20261101T060000
END:STANDARD
END:VTIMEZONE
BEGIN:VEVENT
DTSTART;VALUE=DATE:20250106
DTEND;VALUE=DATE:20250107
DTSTAMP:20260420T224200
CREATED:20240915T171630Z
LAST-MODIFIED:20240915T171630Z
UID:10000192-1736121600-1736207999@smokymtn.cisvusa.org
SUMMARY:Applications Due
DESCRIPTION:Applications are due for Summer 2025 applicants! Here is a list of our current programs. Find out more information about applying for a program here.
URL:https://smokymtn.cisvusa.org/event/applications-due/
CATEGORIES:Programs
END:VEVENT
BEGIN:VEVENT
DTSTART;VALUE=DATE:20250110
DTEND;VALUE=DATE:20250112
DTSTAMP:20260420T224200
CREATED:20240915T172156Z
LAST-MODIFIED:20241029T024001Z
UID:10000193-1736467200-1736639999@smokymtn.cisvusa.org
SUMMARY:Selection Overnight
DESCRIPTION:Save the date for our Selection Overnight. It’s like a Fun Day but longer and more fun! We will also be conducting interviews of applicants – so this is a very important event you won’t want to miss! Check back here later for any additional information and to register. \nPlease let us know if you are able to chaperone\, check in/out children\, help with interviews\, or help with food/snacks. \nProgram applicants should make plans to attend at least one Fun Day\, as well as Selection Overnight and Minicamp.
URL:https://smokymtn.cisvusa.org/event/selection-overnight-2/
CATEGORIES:Fun Day
END:VEVENT
BEGIN:VEVENT
DTSTART;TZID=America/New_York:20250114T170000
DTEND;TZID=America/New_York:20250114T210000
DTSTAMP:20260420T224200
CREATED:20250104T225321Z
LAST-MODIFIED:20250104T231414Z
UID:10000199-1736874000-1736888400@smokymtn.cisvusa.org
SUMMARY:Blaze Pizza Fundraiser
DESCRIPTION:  \n\nEnjoy great pizza with friends and family while supporting our 2025 Village at a special fundraising event at Blaze Pizza on North Peters Road! You can place an order online or in-person between 5pm and 9pm on January 14 to donate 20% of your order to our chapter. Be sure to spread the word to your friends and family\, CISVers and non-CISVers alike! $500 in sales must be reached for our organization to receive a donation. \n\n\nIn-person\, you can show a printed or virtual flyer on your phone for it to count. On-site solicitation for others to join our fundraiser is prohibited and may result in cancellation of the fundraiser. \n\nBe sure to enter the promo code 1056A for online orders in the Blaze Pizza app or blazepizza.com. If entered correctly\, you will see a $.01 discount applied to your check which confirms that 20% of your transaction will be counted into the total donation. No other discount can be applied.\n\nYou can download the flyer here: https://smokymtn.cisvusa.org/…/01/Smoky-Mountain-CISV.pdf
URL:https://smokymtn.cisvusa.org/event/blaze-pizza-fundraiser/
LOCATION:Blaze Pizza North Peters\, 113 North Peters Road\, Knoxville\, TN\, 37923
CATEGORIES:Fundraiser
ATTACH;FMTTYPE=image/jpeg:https://smokymtn.cisvusa.org/wp-content/uploads/sites/23/2025/01/pizza-6478478_1280.jpg
END:VEVENT
BEGIN:VEVENT
DTSTART;TZID=America/New_York:20250115T200000
DTEND;TZID=America/New_York:20250115T213000
DTSTAMP:20260420T224200
CREATED:20240913T024855Z
LAST-MODIFIED:20240913T024855Z
UID:10000182-1736971200-1736976600@smokymtn.cisvusa.org
SUMMARY:January Board Meeting
DESCRIPTION:Topic: CISV Smoky Mtn Board Meeting\nTime: Jan 15\, 2025 08:00 PM Eastern Time (US and Canada) \nEvery month on the Third Wed\, 8 occurrence(s)\nPlease download and import the following iCalendar (.ics) files to your calendar system.\nMonthly: https://us02web.zoom.us/meeting/tZUtdeiuqz4iHNShbXWSLcC-tiuKLXNDuIe6/ics?icsToken=98tyKuGprjkrHNGQuB-HRpwcAojod-7wmCVHgo1ulB3dNBN_YSC7IutXGZ5HPvzF&meetingMasterEventId=13zEMzDkQUqO-Vy19uLvFw \nJoin Zoom Meeting\nhttps://us02web.zoom.us/j/81021655860?pwd=ebwCZSJbObbaKkn2ZhuwvIT43Zal1W.1 \nMeeting ID: 810 2165 5860\nPasscode: 612026 \n— \nOne tap mobile\n+13017158592\,\,81021655860#\,\,\,\,*612026# US (Washington DC)\n+13052241968\,\,81021655860#\,\,\,\,*612026# US \n— \nDial by your location\n• +1 301 715 8592 US (Washington DC)\n• +1 305 224 1968 US\n• +1 309 205 3325 US\n• +1 312 626 6799 US (Chicago)\n• +1 646 931 3860 US\n• +1 929 205 6099 US (New York)\n• +1 689 278 1000 US\n• +1 719 359 4580 US\n• +1 253 205 0468 US\n• +1 253 215 8782 US (Tacoma)\n• +1 346 248 7799 US (Houston)\n• +1 360 209 5623 US\n• +1 386 347 5053 US\n• +1 507 473 4847 US\n• +1 564 217 2000 US\n• +1 669 444 9171 US\n• +1 669 900 6833 US (San Jose) \nMeeting ID: 810 2165 5860\nPasscode: 612026 \nFind your local number: https://us02web.zoom.us/u/kS8J8h7Lm
URL:https://smokymtn.cisvusa.org/event/january-board-meeting-3/
CATEGORIES:Board Meeting and JB Board Meeting
END:VEVENT
BEGIN:VEVENT
DTSTART;TZID=America/New_York:20250120T170000
DTEND;TZID=America/New_York:20250120T213000
DTSTAMP:20260420T224200
CREATED:20250104T231940Z
LAST-MODIFIED:20250104T231940Z
UID:10000200-1737392400-1737408600@smokymtn.cisvusa.org
SUMMARY:Cruze Farm Downtown Fundraiser
DESCRIPTION:Join us downtown on Gay Street at Cruze Farm for ice cream\, shakes\, churns\, floats\, sundaes\, and more on January 20th from 5pm – 9:30pm. Bring your friends and family to support our 2025 Village at this fundraising event! Just mention CISV Smoky Mountain during the timeframe to donate 20% of your order to our chapter. Solicitation to participate in the fundraiser at the location is not allowed.\n\nBe sure to spread the word to your friends and family\, CISVers and non-CISVers alike so we get a big turnout! See you there!
URL:https://smokymtn.cisvusa.org/event/cruze-farm-downtown-fundraiser/
LOCATION:Cruze Farm Downtown\, 445 S Gay St #3\, Knoxville\, TN\, 37902
CATEGORIES:Fundraiser
ATTACH;FMTTYPE=image/jpeg:https://smokymtn.cisvusa.org/wp-content/uploads/sites/23/2025/01/ice-cream-5928048_1280.jpg
END:VEVENT
END:VCALENDAR