BEGIN:VCALENDAR
VERSION:2.0
PRODID:-//Smoky Mountain - ECPv6.15.20//NONSGML v1.0//EN
CALSCALE:GREGORIAN
METHOD:PUBLISH
X-WR-CALNAME:Smoky Mountain
X-ORIGINAL-URL:https://smokymtn.cisvusa.org
X-WR-CALDESC:Events for Smoky Mountain
REFRESH-INTERVAL;VALUE=DURATION:PT1H
X-Robots-Tag:noindex
X-PUBLISHED-TTL:PT1H
BEGIN:VTIMEZONE
TZID:America/New_York
BEGIN:DAYLIGHT
TZOFFSETFROM:-0500
TZOFFSETTO:-0400
TZNAME:EDT
DTSTART:20240310T070000
END:DAYLIGHT
BEGIN:STANDARD
TZOFFSETFROM:-0400
TZOFFSETTO:-0500
TZNAME:EST
DTSTART:20241103T060000
END:STANDARD
BEGIN:DAYLIGHT
TZOFFSETFROM:-0500
TZOFFSETTO:-0400
TZNAME:EDT
DTSTART:20250309T070000
END:DAYLIGHT
BEGIN:STANDARD
TZOFFSETFROM:-0400
TZOFFSETTO:-0500
TZNAME:EST
DTSTART:20251102T060000
END:STANDARD
BEGIN:DAYLIGHT
TZOFFSETFROM:-0500
TZOFFSETTO:-0400
TZNAME:EDT
DTSTART:20260308T070000
END:DAYLIGHT
BEGIN:STANDARD
TZOFFSETFROM:-0400
TZOFFSETTO:-0500
TZNAME:EST
DTSTART:20261101T060000
END:STANDARD
END:VTIMEZONE
BEGIN:VEVENT
DTSTART;TZID=America/New_York:20250914T130000
DTEND;TZID=America/New_York:20250914T160000
DTSTAMP:20260420T224240
CREATED:20250819T194504Z
LAST-MODIFIED:20250914T013132Z
UID:10000218-1757854800-1757865600@smokymtn.cisvusa.org
SUMMARY:Board Retreat
DESCRIPTION:Please save the date and join us for the 2025 CISV Smoky Mountain Chapter Board & Volunteer Retreat!  \n\n\nIt is scheduled for Sunday\, September 14 from 1-4 pm at 400 Goodys Lane\, Knoxville\, TN 37922 *new location* \n\n\nWe look forward to seeing you there as we plan for another successful year! \nThis retreat will take the place of the regularly scheduled board meeting this month.
URL:https://smokymtn.cisvusa.org/event/board-retreat-2/
CATEGORIES:Board Meeting and JB Board Meeting
END:VEVENT
BEGIN:VEVENT
DTSTART;TZID=America/New_York:20250920T100000
DTEND;TZID=America/New_York:20250920T180000
DTSTAMP:20260420T224240
CREATED:20250908T173412Z
LAST-MODIFIED:20250909T022028Z
UID:10000219-1758362400-1758391200@smokymtn.cisvusa.org
SUMMARY:International Day of Peace and Peace Crane Folding with OREPA
DESCRIPTION:Each year\, our chapter partners with OREPA to observe International Peace Day by folding origami cranes\nknown as “Peace Cranes\,” in honor of Sadako Sasaki\,\nwho died after the bombing of Hiroshima during World War II.\nYou can watch a short 8-minute documentary on Youtube about Sadako here.\n\n\n  \n\nOREPA and CISV Smoky Mountain will be at\nUnion Avenue Books\n517 Union Avenue\, Knoxville\, TN 37902\nSaturday\, Sept 20 from 10am-6pm\n\n  \nCome fold one or more Peace Cranes and stay as long as you like.\nOrigami experts will be available to help you learn. Don’t forget to bring a chair!\nShirts or a book about Sadako will be given to those that fold 30 cranes\, while supplies last!\nContact orepaorganizer@gmail.com if you have questions\n\n 
URL:https://smokymtn.cisvusa.org/event/international-day-of-peace-and-peace-crane-folding-with-orepa-2/
LOCATION:Union Avenue Books\, 517 Union Ave\, Knoxville\, TN\, 37902\, United States
GEO:35.9642552;-83.9207656
X-APPLE-STRUCTURED-LOCATION;VALUE=URI;X-ADDRESS=Union Avenue Books 517 Union Ave Knoxville TN 37902 United States;X-APPLE-RADIUS=500;X-TITLE=517 Union Ave:geo:-83.9207656,35.9642552
END:VEVENT
END:VCALENDAR