BEGIN:VCALENDAR
VERSION:2.0
PRODID:-//Smoky Mountain - ECPv6.15.20//NONSGML v1.0//EN
CALSCALE:GREGORIAN
METHOD:PUBLISH
X-WR-CALNAME:Smoky Mountain
X-ORIGINAL-URL:https://smokymtn.cisvusa.org
X-WR-CALDESC:Events for Smoky Mountain
REFRESH-INTERVAL;VALUE=DURATION:PT1H
X-Robots-Tag:noindex
X-PUBLISHED-TTL:PT1H
BEGIN:VTIMEZONE
TZID:America/New_York
BEGIN:DAYLIGHT
TZOFFSETFROM:-0500
TZOFFSETTO:-0400
TZNAME:EDT
DTSTART:20240310T070000
END:DAYLIGHT
BEGIN:STANDARD
TZOFFSETFROM:-0400
TZOFFSETTO:-0500
TZNAME:EST
DTSTART:20241103T060000
END:STANDARD
BEGIN:DAYLIGHT
TZOFFSETFROM:-0500
TZOFFSETTO:-0400
TZNAME:EDT
DTSTART:20250309T070000
END:DAYLIGHT
BEGIN:STANDARD
TZOFFSETFROM:-0400
TZOFFSETTO:-0500
TZNAME:EST
DTSTART:20251102T060000
END:STANDARD
BEGIN:DAYLIGHT
TZOFFSETFROM:-0500
TZOFFSETTO:-0400
TZNAME:EDT
DTSTART:20260308T070000
END:DAYLIGHT
BEGIN:STANDARD
TZOFFSETFROM:-0400
TZOFFSETTO:-0500
TZNAME:EST
DTSTART:20261101T060000
END:STANDARD
END:VTIMEZONE
BEGIN:VEVENT
DTSTART;TZID=America/New_York:20251109T133000
DTEND;TZID=America/New_York:20251109T153000
DTSTAMP:20260420T224250
CREATED:20250914T173138Z
LAST-MODIFIED:20251105T022642Z
UID:10000222-1762695000-1762702200@smokymtn.cisvusa.org
SUMMARY:Fun Day #1 & CISV 101
DESCRIPTION:Fun Days are an opportunity to learn about CISV\, our programs\, and our Junior Branch. Anyone interested in applying should make plans to attend at least one Fun Day and Selection Overnight. We also encourage all members and past travelers to attend to share their stories! \nSee you at The Cove! Be sure to bring your friends!
URL:https://smokymtn.cisvusa.org/event/fun-day-1-cisv-101/
LOCATION:The Cove at Concord Park\, 11808 S Northshore Dr\, Knoxville\, TN\, 37922\, United States
CATEGORIES:Fun Day
END:VEVENT
BEGIN:VEVENT
DTSTART;TZID=America/New_York:20251117T180000
DTEND;TZID=America/New_York:20251117T193000
DTSTAMP:20260420T224250
CREATED:20251113T184146Z
LAST-MODIFIED:20251113T184146Z
UID:10000244-1763402400-1763407800@smokymtn.cisvusa.org
SUMMARY:Seminar Camp Application Webinar
DESCRIPTION:Reggie with CISV Jacksonville is hosting an info session on Zoom about applying for Seminar Camp. Tune in here if you or a family member are interested in Seminar Camp this summer!
URL:https://smokymtn.cisvusa.org/event/seminar-camp-application-webinar/
CATEGORIES:Training
END:VEVENT
BEGIN:VEVENT
DTSTART;TZID=America/New_York:20251119T200000
DTEND;TZID=America/New_York:20251119T213000
DTSTAMP:20260420T224250
CREATED:20250914T173259Z
LAST-MODIFIED:20251119T044407Z
UID:10000223-1763582400-1763587800@smokymtn.cisvusa.org
SUMMARY:November Board & Volunteer Meeting
DESCRIPTION:Topic: Board Meeting\nTime: 08:00 PM Eastern Time (US and Canada)\nEvery month on the Third Wed\nPlease download and import the following iCalendar (.ics) files to your calendar system.\nMonthly: https://us06web.zoom.us/meeting/tZIkcO6urjMvHNZo6zVoXCgZQQM95kO1j8Gt/ics?icsToken=DOBCGHquoq20o9K5uQAALAAAAPy2B-SZTfBpeRlRiuuEdPkgMB54menTWXhfccVnP4noaAjYTSjHJl1QJT76ule2xvRGvpifFZ8qRWrrkjAwMDAwMQ&meetingMasterEventId=p_oMPmW_ShigVIyS2_sgcA\nJoin Zoom Meeting\nhttps://us06web.zoom.us/j/86977608562?pwd=tgdIcum3wydt3NFGecEUQ3cBzks4Gm.1 \nMeeting ID: 869 7760 8562\nPasscode: 187615 \n— \nOne tap mobile\n+13092053325\,\,86977608562#\,\,\,\,*187615# US\n+13126266799\,\,86977608562#\,\,\,\,*187615# US (Chicago) \nJoin instructions\nhttps://us06web.zoom.us/meetings/86977608562/invitations?signature=rlJvR3K5WLFnCM0vynNTFEGgcrUHvPW42xgzUEQzLFs
URL:https://smokymtn.cisvusa.org/event/november-board-volunteer-meeting/
CATEGORIES:Board Meeting and JB Board Meeting
END:VEVENT
END:VCALENDAR