BEGIN:VCALENDAR
VERSION:2.0
PRODID:-//Smoky Mountain - ECPv6.15.20//NONSGML v1.0//EN
CALSCALE:GREGORIAN
METHOD:PUBLISH
X-WR-CALNAME:Smoky Mountain
X-ORIGINAL-URL:https://smokymtn.cisvusa.org
X-WR-CALDESC:Events for Smoky Mountain
REFRESH-INTERVAL;VALUE=DURATION:PT1H
X-Robots-Tag:noindex
X-PUBLISHED-TTL:PT1H
BEGIN:VTIMEZONE
TZID:America/New_York
BEGIN:DAYLIGHT
TZOFFSETFROM:-0500
TZOFFSETTO:-0400
TZNAME:EDT
DTSTART:20190310T070000
END:DAYLIGHT
BEGIN:STANDARD
TZOFFSETFROM:-0400
TZOFFSETTO:-0500
TZNAME:EST
DTSTART:20191103T060000
END:STANDARD
BEGIN:DAYLIGHT
TZOFFSETFROM:-0500
TZOFFSETTO:-0400
TZNAME:EDT
DTSTART:20200308T070000
END:DAYLIGHT
BEGIN:STANDARD
TZOFFSETFROM:-0400
TZOFFSETTO:-0500
TZNAME:EST
DTSTART:20201101T060000
END:STANDARD
BEGIN:DAYLIGHT
TZOFFSETFROM:-0500
TZOFFSETTO:-0400
TZNAME:EDT
DTSTART:20210314T070000
END:DAYLIGHT
BEGIN:STANDARD
TZOFFSETFROM:-0400
TZOFFSETTO:-0500
TZNAME:EST
DTSTART:20211107T060000
END:STANDARD
END:VTIMEZONE
BEGIN:VEVENT
DTSTART;TZID=America/New_York:20200831T200000
DTEND;TZID=America/New_York:20200831T210000
DTSTAMP:20260422T022614
CREATED:20200729T012445Z
LAST-MODIFIED:20200729T013119Z
UID:10000074-1598904000-1598907600@smokymtn.cisvusa.org
SUMMARY:How to Be an Antiracist Discussion - Discussion 2
DESCRIPTION:Due to the success and amount to discuss\, a follow-up discussion on the book “How to Be an Antiracist” by Dr. Ibram X. Kendi has been added. It should be great discussion whether you read the book or not!\n\n\n \n\n\nAugust 31\n\n\n8pm – 9pm.\n\n\n \n\n\nFollow this link on your smart device to access the meeting:\n\n\nhttps://global.gotomeeting.com/join/777531485\n\n\n \n\n\nYou can also dial in using your phone.\n\n\nUnited States (Toll Free): 1 877 309 2073\n\n\nUnited States: +1 (571) 317-3129\n\n\nAccess Code: 777-531-485\n\n\n \n\n\nFor more information about the book\, visit: https://www.ibramxkendi.com/how-to-be-an-antiracist-1
URL:https://smokymtn.cisvusa.org/event/how-to-be-an-antiracist-discussion-discussion-2/
END:VEVENT
END:VCALENDAR