BEGIN:VCALENDAR
VERSION:2.0
PRODID:-//Smoky Mountain - ECPv6.15.20//NONSGML v1.0//EN
CALSCALE:GREGORIAN
METHOD:PUBLISH
X-WR-CALNAME:Smoky Mountain
X-ORIGINAL-URL:https://smokymtn.cisvusa.org
X-WR-CALDESC:Events for Smoky Mountain
REFRESH-INTERVAL;VALUE=DURATION:PT1H
X-Robots-Tag:noindex
X-PUBLISHED-TTL:PT1H
BEGIN:VTIMEZONE
TZID:America/New_York
BEGIN:DAYLIGHT
TZOFFSETFROM:-0500
TZOFFSETTO:-0400
TZNAME:EDT
DTSTART:20190310T070000
END:DAYLIGHT
BEGIN:STANDARD
TZOFFSETFROM:-0400
TZOFFSETTO:-0500
TZNAME:EST
DTSTART:20191103T060000
END:STANDARD
BEGIN:DAYLIGHT
TZOFFSETFROM:-0500
TZOFFSETTO:-0400
TZNAME:EDT
DTSTART:20200308T070000
END:DAYLIGHT
BEGIN:STANDARD
TZOFFSETFROM:-0400
TZOFFSETTO:-0500
TZNAME:EST
DTSTART:20201101T060000
END:STANDARD
BEGIN:DAYLIGHT
TZOFFSETFROM:-0500
TZOFFSETTO:-0400
TZNAME:EDT
DTSTART:20210314T070000
END:DAYLIGHT
BEGIN:STANDARD
TZOFFSETFROM:-0400
TZOFFSETTO:-0500
TZNAME:EST
DTSTART:20211107T060000
END:STANDARD
END:VTIMEZONE
BEGIN:VEVENT
DTSTART;TZID=America/New_York:20201025T150000
DTEND;TZID=America/New_York:20201025T163000
DTSTAMP:20260421T000301
CREATED:20200829T205014Z
LAST-MODIFIED:20201022T022816Z
UID:10000076-1603638000-1603643400@smokymtn.cisvusa.org
SUMMARY:Fall Chapter Meeting
DESCRIPTION:Join us for the Fall Chapter Meeting via Zoom.\nSunday\, October 25\n3 pm – 4:30 pm \nZoom Meeting Details:\nJoin via browser or app\nhttps://us02web.zoom.us/j/82970799212\nMeeting ID: 829 7079 9212 \nJoin via Phone\n+16468769923\, 82970799212# US (New York) \nBe sure to download and review the agenda and Spring Chapter Meeting Minutes and proposed by-law changes documents before the Fall Chapter Meeting. The minutes from the Spring Chapter Meeting and proposed by-law changes need to be approved at the meeting.
URL:https://smokymtn.cisvusa.org/event/fall-chapter-meeting-2/
CATEGORIES:Board Meeting and JB Board Meeting
END:VEVENT
END:VCALENDAR