BEGIN:VCALENDAR
VERSION:2.0
PRODID:-//Smoky Mountain - ECPv6.15.20//NONSGML v1.0//EN
CALSCALE:GREGORIAN
METHOD:PUBLISH
X-WR-CALNAME:Smoky Mountain
X-ORIGINAL-URL:https://smokymtn.cisvusa.org
X-WR-CALDESC:Events for Smoky Mountain
REFRESH-INTERVAL;VALUE=DURATION:PT1H
X-Robots-Tag:noindex
X-PUBLISHED-TTL:PT1H
BEGIN:VTIMEZONE
TZID:America/New_York
BEGIN:DAYLIGHT
TZOFFSETFROM:-0500
TZOFFSETTO:-0400
TZNAME:EDT
DTSTART:20220313T070000
END:DAYLIGHT
BEGIN:STANDARD
TZOFFSETFROM:-0400
TZOFFSETTO:-0500
TZNAME:EST
DTSTART:20221106T060000
END:STANDARD
BEGIN:DAYLIGHT
TZOFFSETFROM:-0500
TZOFFSETTO:-0400
TZNAME:EDT
DTSTART:20230312T070000
END:DAYLIGHT
BEGIN:STANDARD
TZOFFSETFROM:-0400
TZOFFSETTO:-0500
TZNAME:EST
DTSTART:20231105T060000
END:STANDARD
BEGIN:DAYLIGHT
TZOFFSETFROM:-0500
TZOFFSETTO:-0400
TZNAME:EDT
DTSTART:20240310T070000
END:DAYLIGHT
BEGIN:STANDARD
TZOFFSETFROM:-0400
TZOFFSETTO:-0500
TZNAME:EST
DTSTART:20241103T060000
END:STANDARD
END:VTIMEZONE
BEGIN:VEVENT
DTSTART;VALUE=DATE:20230401
DTEND;VALUE=DATE:20230406
DTSTAMP:20260422T024304
CREATED:20230317T223503Z
LAST-MODIFIED:20230317T223503Z
UID:10000088-1680307200-1680739199@smokymtn.cisvusa.org
SUMMARY:Regional Training Forum
DESCRIPTION:Registration for the RTF (Regional Training Forum) in Canada is now open: RTF – Canada – Registration  Trainings that are being offered are Chapter Development\, Risk Manager and Train the Trainer. \nIf you have any questions\, please send an email to RTF Host.
URL:https://smokymtn.cisvusa.org/event/regional-training-forum/
CATEGORIES:Training
END:VEVENT
BEGIN:VEVENT
DTSTART;TZID=America/New_York:20230401T110000
DTEND;TZID=America/New_York:20230402T090000
DTSTAMP:20260422T024304
CREATED:20230207T223545Z
LAST-MODIFIED:20230320T014003Z
UID:10000148-1680346800-1680426000@smokymtn.cisvusa.org
SUMMARY:Mini Camp
DESCRIPTION:All CISVers including delegates (aged 9+)\, leaders\, staff\, or simply if you are interested in CISV – you are welcome to join us for our yearly Mini Camp! It will be a great time and the best way to experience what a program might be like for those new to CISV. Chattanooga and Atlanta chapters are welcome as well! \nCheck-in will be 11 am – 12 pm on Saturday\, April 1.\nPick-up will be 9 – 9:30 am Sunday\, April 2. \nCamp includes lunch and dinner on Saturday\, plus breakfast Sunday morning.\nParticipants should bring one snack to share (for about 24 kids)\, a water bottle\, and an optional pillowcase to tie-dye. The price includes all meals and a t-shirt. The cost for delegates traveling with our chapter is already included in the Program Fee for 2023. Fee for the rest of JB and those attending from Chattanooga or Atlanta is $75 per camper. Chaperones attend for free!\nWe hope to see you all there! Bring friends! \nRegister here! Camp location will be sent in a confirmation email after you have registered.
URL:https://smokymtn.cisvusa.org/event/mini-camp-4/
CATEGORIES:Mini Camp
END:VEVENT
BEGIN:VEVENT
DTSTART;TZID=America/New_York:20230406T193000
DTEND;TZID=America/New_York:20230406T210000
DTSTAMP:20260422T024304
CREATED:20230330T181431Z
LAST-MODIFIED:20230330T181431Z
UID:10000094-1680809400-1680814800@smokymtn.cisvusa.org
SUMMARY:myCISV Training and Support for Delegations
DESCRIPTION:Have questions or issues with getting registered on myCISV? Attend this virtual support session on April 6 at 7:30pm to receive help! \nTopic: myCISV Training and Support for Delegations\nTime: Apr 6\, 2023 07:30 PM Eastern Time (US and Canada) \nJoin Zoom Meeting\nhttps://us02web.zoom.us/j/87474985231?pwd=d3RSc2ZRaW0vMERDZElyR2VJNklYQT09 \nMeeting ID: 874 7498 5231\nPasscode: 592925\nOne tap mobile\n+19292056099\,\,87474985231#\,\,\,\,*592925# US (New York)\n+13017158592\,\,87474985231#\,\,\,\,*592925# US (Washington DC) \nDial by your location\n+1 929 205 6099 US (New York)\n+1 301 715 8592 US (Washington DC)\n+1 305 224 1968 US\n+1 309 205 3325 US\n+1 312 626 6799 US (Chicago)\n+1 646 931 3860 US\n+1 386 347 5053 US\n+1 507 473 4847 US\n+1 564 217 2000 US\n+1 669 444 9171 US\n+1 669 900 6833 US (San Jose)\n+1 689 278 1000 US\n+1 719 359 4580 US\n+1 253 205 0468 US\n+1 253 215 8782 US (Tacoma)\n+1 346 248 7799 US (Houston)\n+1 360 209 5623 US\nMeeting ID: 874 7498 5231\nPasscode: 592925\nFind your local number: https://us02web.zoom.us/u/kTlN716MB
URL:https://smokymtn.cisvusa.org/event/mycisv-training-and-support-for-delegations/
CATEGORIES:Training
END:VEVENT
END:VCALENDAR