BEGIN:VCALENDAR
VERSION:2.0
PRODID:-//Smoky Mountain - ECPv6.15.20//NONSGML v1.0//EN
CALSCALE:GREGORIAN
METHOD:PUBLISH
X-WR-CALNAME:Smoky Mountain
X-ORIGINAL-URL:https://smokymtn.cisvusa.org
X-WR-CALDESC:Events for Smoky Mountain
REFRESH-INTERVAL;VALUE=DURATION:PT1H
X-Robots-Tag:noindex
X-PUBLISHED-TTL:PT1H
BEGIN:VTIMEZONE
TZID:America/New_York
BEGIN:DAYLIGHT
TZOFFSETFROM:-0500
TZOFFSETTO:-0400
TZNAME:EDT
DTSTART:20240310T070000
END:DAYLIGHT
BEGIN:STANDARD
TZOFFSETFROM:-0400
TZOFFSETTO:-0500
TZNAME:EST
DTSTART:20241103T060000
END:STANDARD
BEGIN:DAYLIGHT
TZOFFSETFROM:-0500
TZOFFSETTO:-0400
TZNAME:EDT
DTSTART:20250309T070000
END:DAYLIGHT
BEGIN:STANDARD
TZOFFSETFROM:-0400
TZOFFSETTO:-0500
TZNAME:EST
DTSTART:20251102T060000
END:STANDARD
BEGIN:DAYLIGHT
TZOFFSETFROM:-0500
TZOFFSETTO:-0400
TZNAME:EDT
DTSTART:20260308T070000
END:DAYLIGHT
BEGIN:STANDARD
TZOFFSETFROM:-0400
TZOFFSETTO:-0500
TZNAME:EST
DTSTART:20261101T060000
END:STANDARD
END:VTIMEZONE
BEGIN:VEVENT
DTSTART;TZID=America/New_York:20250220T200000
DTEND;TZID=America/New_York:20250220T213000
DTSTAMP:20260420T224100
CREATED:20240913T024929Z
LAST-MODIFIED:20250202T235139Z
UID:10000183-1740081600-1740087000@smokymtn.cisvusa.org
SUMMARY:February Board Meeting
DESCRIPTION:Topic: CISV Smoky Mtn Board Meeting\n*Updated* Time: Feb 20\, 2025 08:00 PM Eastern Time (US and Canada) \nPlease download and import the following iCalendar (.ics) files to your calendar system.\nMonthly: https://us02web.zoom.us/meeting/tZUtdeiuqz4iHNShbXWSLcC-tiuKLXNDuIe6/ics?icsToken=DD7R0SJ-hlP71b-2lQAALAAAAIPsY_BrZrqjH-PmRH83CFObZfhWAjM3zJmu_785gkXNm5LDSoM6SeDzYt_4XvWIKOTtmt_eC_Aeww4RkzAwMDAwMQ&meetingMasterEventId=13zEMzDkQUqO-Vy19uLvFw\nJoin Zoom Meeting\nhttps://us02web.zoom.us/j/81021655860?pwd=ebwCZSJbObbaKkn2ZhuwvIT43Zal1W.1\n\nMeeting ID: 810 2165 5860\nPasscode: 612026\n\n—\n\nOne tap mobile\n+13017158592\,\,81021655860#\,\,\,\,*612026# US (Washington DC)\n+13052241968\,\,81021655860#\,\,\,\,*612026# US\n\n—\n\nDial by your location\n• +1 301 715 8592 US (Washington DC)\n• +1 305 224 1968 US\n• +1 309 205 3325 US\n• +1 312 626 6799 US (Chicago)\n• +1 646 931 3860 US\n• +1 929 205 6099 US (New York)\n• +1 689 278 1000 US\n• +1 719 359 4580 US\n• +1 253 205 0468 US\n• +1 253 215 8782 US (Tacoma)\n• +1 346 248 7799 US (Houston)\n• +1 360 209 5623 US\n• +1 386 347 5053 US\n• +1 507 473 4847 US\n• +1 564 217 2000 US\n• +1 669 444 9171 US\n• +1 669 900 6833 US (San Jose)\n\nMeeting ID: 810 2165 5860\nPasscode: 612026\n\nFind your local number: https://us02web.zoom.us/u/kS8J8h7Lm
URL:https://smokymtn.cisvusa.org/event/february-board-meeting-3/
CATEGORIES:Board Meeting and JB Board Meeting
END:VEVENT
END:VCALENDAR