BEGIN:VCALENDAR
VERSION:2.0
PRODID:-//Smoky Mountain - ECPv6.15.20//NONSGML v1.0//EN
CALSCALE:GREGORIAN
METHOD:PUBLISH
X-WR-CALNAME:Smoky Mountain
X-ORIGINAL-URL:https://smokymtn.cisvusa.org
X-WR-CALDESC:Events for Smoky Mountain
REFRESH-INTERVAL;VALUE=DURATION:PT1H
X-Robots-Tag:noindex
X-PUBLISHED-TTL:PT1H
BEGIN:VTIMEZONE
TZID:America/New_York
BEGIN:DAYLIGHT
TZOFFSETFROM:-0500
TZOFFSETTO:-0400
TZNAME:EDT
DTSTART:20240310T070000
END:DAYLIGHT
BEGIN:STANDARD
TZOFFSETFROM:-0400
TZOFFSETTO:-0500
TZNAME:EST
DTSTART:20241103T060000
END:STANDARD
BEGIN:DAYLIGHT
TZOFFSETFROM:-0500
TZOFFSETTO:-0400
TZNAME:EDT
DTSTART:20250309T070000
END:DAYLIGHT
BEGIN:STANDARD
TZOFFSETFROM:-0400
TZOFFSETTO:-0500
TZNAME:EST
DTSTART:20251102T060000
END:STANDARD
BEGIN:DAYLIGHT
TZOFFSETFROM:-0500
TZOFFSETTO:-0400
TZNAME:EDT
DTSTART:20260308T070000
END:DAYLIGHT
BEGIN:STANDARD
TZOFFSETFROM:-0400
TZOFFSETTO:-0500
TZNAME:EST
DTSTART:20261101T060000
END:STANDARD
END:VTIMEZONE
BEGIN:VEVENT
DTSTART;TZID=America/New_York:20251024T110000
DTEND;TZID=America/New_York:20251026T110000
DTSTAMP:20260420T235527
CREATED:20250909T020612Z
LAST-MODIFIED:20250909T022021Z
UID:10000220-1761303600-1761476400@smokymtn.cisvusa.org
SUMMARY:CISV Connect
DESCRIPTION:What: CISV Connect (National Junior Board Meeting) will combine camp activities with experiential educational activities. The intent is to gather and energize chapters.\nWhen: Check-In Friday\, October 24 th 11am ending Sunday\, October 26 th at 11:00am\nWhere: Nashville\, TN\nWho: JB members 14+ and Adult members who want to learn and have fun!  Each chapter should send at least one JB (Local Junior Rep\, LJR) and one adult.\nTo register:  CISV Connect 2025\nMore info can be found here.\n\nThe deadline to register is October 3!
URL:https://smokymtn.cisvusa.org/event/cisv-connect/
CATEGORIES:JB Activity
END:VEVENT
END:VCALENDAR