BEGIN:VCALENDAR
VERSION:2.0
PRODID:-//Smoky Mountain - ECPv6.15.20//NONSGML v1.0//EN
CALSCALE:GREGORIAN
METHOD:PUBLISH
X-WR-CALNAME:Smoky Mountain
X-ORIGINAL-URL:https://smokymtn.cisvusa.org
X-WR-CALDESC:Events for Smoky Mountain
REFRESH-INTERVAL;VALUE=DURATION:PT1H
X-Robots-Tag:noindex
X-PUBLISHED-TTL:PT1H
BEGIN:VTIMEZONE
TZID:America/New_York
BEGIN:DAYLIGHT
TZOFFSETFROM:-0500
TZOFFSETTO:-0400
TZNAME:EDT
DTSTART:20250309T070000
END:DAYLIGHT
BEGIN:STANDARD
TZOFFSETFROM:-0400
TZOFFSETTO:-0500
TZNAME:EST
DTSTART:20251102T060000
END:STANDARD
BEGIN:DAYLIGHT
TZOFFSETFROM:-0500
TZOFFSETTO:-0400
TZNAME:EDT
DTSTART:20260308T070000
END:DAYLIGHT
BEGIN:STANDARD
TZOFFSETFROM:-0400
TZOFFSETTO:-0500
TZNAME:EST
DTSTART:20261101T060000
END:STANDARD
BEGIN:DAYLIGHT
TZOFFSETFROM:-0500
TZOFFSETTO:-0400
TZNAME:EDT
DTSTART:20270314T070000
END:DAYLIGHT
BEGIN:STANDARD
TZOFFSETFROM:-0400
TZOFFSETTO:-0500
TZNAME:EST
DTSTART:20271107T060000
END:STANDARD
END:VTIMEZONE
BEGIN:VEVENT
DTSTART;TZID=America/New_York:20260121T200000
DTEND;TZID=America/New_York:20260121T213000
DTSTAMP:20260419T210835
CREATED:20250914T175542Z
LAST-MODIFIED:20251119T044559Z
UID:10000228-1769025600-1769031000@smokymtn.cisvusa.org
SUMMARY:January Board & Volunteer Meeting
DESCRIPTION:Topic: Board Meeting\nTime: 08:00 PM Eastern Time (US and Canada)\nEvery month on the Third Wed\nPlease download and import the following iCalendar (.ics) files to your calendar system.\nMonthly: https://us06web.zoom.us/meeting/tZIkcO6urjMvHNZo6zVoXCgZQQM95kO1j8Gt/ics?icsToken=DOBCGHquoq20o9K5uQAALAAAAPy2B-SZTfBpeRlRiuuEdPkgMB54menTWXhfccVnP4noaAjYTSjHJl1QJT76ule2xvRGvpifFZ8qRWrrkjAwMDAwMQ&meetingMasterEventId=p_oMPmW_ShigVIyS2_sgcA\nJoin Zoom Meeting\nhttps://us06web.zoom.us/j/86977608562?pwd=tgdIcum3wydt3NFGecEUQ3cBzks4Gm.1 \nMeeting ID: 869 7760 8562\nPasscode: 187615 \n— \nOne tap mobile\n+13092053325\,\,86977608562#\,\,\,\,*187615# US\n+13126266799\,\,86977608562#\,\,\,\,*187615# US (Chicago) \nJoin instructions\nhttps://us06web.zoom.us/meetings/86977608562/invitations?signature=rlJvR3K5WLFnCM0vynNTFEGgcrUHvPW42xgzUEQzLFs
URL:https://smokymtn.cisvusa.org/event/january-board-volunteer-meeting/
CATEGORIES:Board Meeting and JB Board Meeting
END:VEVENT
BEGIN:VEVENT
DTSTART;TZID=America/New_York:20260123T190000
DTEND;TZID=America/New_York:20260125T103000
DTSTAMP:20260419T210835
CREATED:20251230T032300Z
LAST-MODIFIED:20251230T034759Z
UID:10000245-1769194800-1769337000@smokymtn.cisvusa.org
SUMMARY:CISV Chattanooga Mini Camp
DESCRIPTION:CISV Chattanooga is hosting their mini camp Jan 23 – 25. Register here before January 10th to save $25 off mini camp fees. Registering after Jan 10th will not guarantee you receive a camp shirt\, so try to register before the deadline!Email Cisvchattanooga@gmail.com with questions!
URL:https://smokymtn.cisvusa.org/event/cisv-chattanooga-mini-camp/
CATEGORIES:Mini Camp
END:VEVENT
END:VCALENDAR