BEGIN:VCALENDAR
VERSION:2.0
PRODID:-//Smoky Mountain - ECPv6.15.20//NONSGML v1.0//EN
CALSCALE:GREGORIAN
METHOD:PUBLISH
X-WR-CALNAME:Smoky Mountain
X-ORIGINAL-URL:https://smokymtn.cisvusa.org
X-WR-CALDESC:Events for Smoky Mountain
REFRESH-INTERVAL;VALUE=DURATION:PT1H
X-Robots-Tag:noindex
X-PUBLISHED-TTL:PT1H
BEGIN:VTIMEZONE
TZID:America/New_York
BEGIN:DAYLIGHT
TZOFFSETFROM:-0500
TZOFFSETTO:-0400
TZNAME:EDT
DTSTART:20180311T070000
END:DAYLIGHT
BEGIN:STANDARD
TZOFFSETFROM:-0400
TZOFFSETTO:-0500
TZNAME:EST
DTSTART:20181104T060000
END:STANDARD
BEGIN:DAYLIGHT
TZOFFSETFROM:-0500
TZOFFSETTO:-0400
TZNAME:EDT
DTSTART:20190310T070000
END:DAYLIGHT
BEGIN:STANDARD
TZOFFSETFROM:-0400
TZOFFSETTO:-0500
TZNAME:EST
DTSTART:20191103T060000
END:STANDARD
BEGIN:DAYLIGHT
TZOFFSETFROM:-0500
TZOFFSETTO:-0400
TZNAME:EDT
DTSTART:20200308T070000
END:DAYLIGHT
BEGIN:STANDARD
TZOFFSETFROM:-0400
TZOFFSETTO:-0500
TZNAME:EST
DTSTART:20201101T060000
END:STANDARD
END:VTIMEZONE
BEGIN:VEVENT
DTSTART;TZID=America/New_York:20190428T143000
DTEND;TZID=America/New_York:20190428T163000
DTSTAMP:20260420T033738
CREATED:20190301T214824Z
LAST-MODIFIED:20190428T204736Z
UID:10000031-1556461800-1556469000@smokymtn.cisvusa.org
SUMMARY:Spring Chapter Meeting
DESCRIPTION:
URL:https://smokymtn.cisvusa.org/event/spring-chapter-meeting/
LOCATION:Church of the Savior\, 934 N. Weisgarber Rd\, Knoxville\, TN\, 37909\, United States
CATEGORIES:Board Meeting and JB Board Meeting
ATTACH;FMTTYPE=image/jpeg:https://smokymtn.cisvusa.org/wp-content/uploads/sites/23/2018/10/IMG_0924-scaled.jpg
GEO:35.9408579;-84.009937
X-APPLE-STRUCTURED-LOCATION;VALUE=URI;X-ADDRESS=Church of the Savior 934 N. Weisgarber Rd Knoxville TN 37909 United States;X-APPLE-RADIUS=500;X-TITLE=934 N. Weisgarber Rd:geo:-84.009937,35.9408579
END:VEVENT
END:VCALENDAR