BEGIN:VCALENDAR
VERSION:2.0
PRODID:-//Smoky Mountain - ECPv6.15.20//NONSGML v1.0//EN
CALSCALE:GREGORIAN
METHOD:PUBLISH
X-WR-CALNAME:Smoky Mountain
X-ORIGINAL-URL:https://smokymtn.cisvusa.org
X-WR-CALDESC:Events for Smoky Mountain
REFRESH-INTERVAL;VALUE=DURATION:PT1H
X-Robots-Tag:noindex
X-PUBLISHED-TTL:PT1H
BEGIN:VTIMEZONE
TZID:America/New_York
BEGIN:DAYLIGHT
TZOFFSETFROM:-0500
TZOFFSETTO:-0400
TZNAME:EDT
DTSTART:20190310T070000
END:DAYLIGHT
BEGIN:STANDARD
TZOFFSETFROM:-0400
TZOFFSETTO:-0500
TZNAME:EST
DTSTART:20191103T060000
END:STANDARD
BEGIN:DAYLIGHT
TZOFFSETFROM:-0500
TZOFFSETTO:-0400
TZNAME:EDT
DTSTART:20200308T070000
END:DAYLIGHT
BEGIN:STANDARD
TZOFFSETFROM:-0400
TZOFFSETTO:-0500
TZNAME:EST
DTSTART:20201101T060000
END:STANDARD
BEGIN:DAYLIGHT
TZOFFSETFROM:-0500
TZOFFSETTO:-0400
TZNAME:EDT
DTSTART:20210314T070000
END:DAYLIGHT
BEGIN:STANDARD
TZOFFSETFROM:-0400
TZOFFSETTO:-0500
TZNAME:EST
DTSTART:20211107T060000
END:STANDARD
END:VTIMEZONE
BEGIN:VEVENT
DTSTART;TZID=America/New_York:20200223T140000
DTEND;TZID=America/New_York:20200223T160000
DTSTAMP:20260419T221415
CREATED:20200127T054948Z
LAST-MODIFIED:20200222T140252Z
UID:10000055-1582466400-1582473600@smokymtn.cisvusa.org
SUMMARY:Delegation Celebration
DESCRIPTION:Come celebrate the announcement of the program delegations!\nCake and some drinks will be available but you are welcome to bring snacks to share as well.\nPark on the Cumberland / Main Avenue side of the church. \nChurch Street United Methodist Church\n900 Henley St\, Knoxville\, TN 37902\nFebruary 23\n2 pm – 4 pm
URL:https://smokymtn.cisvusa.org/event/delegation-celebration/
LOCATION:Church Street United Methodist Church\, 900 Henley St\, Knoxville\, 37934\, United States
CATEGORIES:Board Meeting and JB Board Meeting
ATTACH;FMTTYPE=image/jpeg:https://smokymtn.cisvusa.org/wp-content/uploads/sites/23/2018/03/IMG_1847-scaled.jpg
ORGANIZER;CN="Julie Jones":MAILTO:mofoot@aol.com
GEO:35.9592507;-83.9209495
X-APPLE-STRUCTURED-LOCATION;VALUE=URI;X-ADDRESS=Church Street United Methodist Church 900 Henley St Knoxville 37934 United States;X-APPLE-RADIUS=500;X-TITLE=900 Henley St:geo:-83.9209495,35.9592507
END:VEVENT
END:VCALENDAR