BEGIN:VCALENDAR
VERSION:2.0
PRODID:-//Smoky Mountain - ECPv6.15.20//NONSGML v1.0//EN
CALSCALE:GREGORIAN
METHOD:PUBLISH
X-WR-CALNAME:Smoky Mountain
X-ORIGINAL-URL:https://smokymtn.cisvusa.org
X-WR-CALDESC:Events for Smoky Mountain
REFRESH-INTERVAL;VALUE=DURATION:PT1H
X-Robots-Tag:noindex
X-PUBLISHED-TTL:PT1H
BEGIN:VTIMEZONE
TZID:America/New_York
BEGIN:DAYLIGHT
TZOFFSETFROM:-0500
TZOFFSETTO:-0400
TZNAME:EDT
DTSTART:20170312T070000
END:DAYLIGHT
BEGIN:STANDARD
TZOFFSETFROM:-0400
TZOFFSETTO:-0500
TZNAME:EST
DTSTART:20171105T060000
END:STANDARD
BEGIN:DAYLIGHT
TZOFFSETFROM:-0500
TZOFFSETTO:-0400
TZNAME:EDT
DTSTART:20180311T070000
END:DAYLIGHT
BEGIN:STANDARD
TZOFFSETFROM:-0400
TZOFFSETTO:-0500
TZNAME:EST
DTSTART:20181104T060000
END:STANDARD
BEGIN:DAYLIGHT
TZOFFSETFROM:-0500
TZOFFSETTO:-0400
TZNAME:EDT
DTSTART:20190310T070000
END:DAYLIGHT
BEGIN:STANDARD
TZOFFSETFROM:-0400
TZOFFSETTO:-0500
TZNAME:EST
DTSTART:20191103T060000
END:STANDARD
END:VTIMEZONE
BEGIN:VEVENT
DTSTART;TZID=America/New_York:20181125T150000
DTEND;TZID=America/New_York:20181125T170000
DTSTAMP:20260426T002818
CREATED:20181002T203936Z
LAST-MODIFIED:20181003T203504Z
UID:10000013-1543158000-1543165200@smokymtn.cisvusa.org
SUMMARY:Board Meeting and JB Board Meeting
DESCRIPTION:Please join us at St Johns Cathedral for our October board meeting.
URL:https://smokymtn.cisvusa.org/event/board-meeting-and-jb-board-meeting-2/
LOCATION:St Johns Cathedral\, 413 W. Cumberland Ave\, Knoxville\, 37902\, United States
CATEGORIES:Board Meeting and JB Board Meeting
ATTACH;FMTTYPE=image/jpeg:https://smokymtn.cisvusa.org/wp-content/uploads/sites/23/2018/10/IMG_0925-scaled.jpg
GEO:35.9621547;-83.9187262
X-APPLE-STRUCTURED-LOCATION;VALUE=URI;X-ADDRESS=St Johns Cathedral 413 W. Cumberland Ave Knoxville 37902 United States;X-APPLE-RADIUS=500;X-TITLE=413 W. Cumberland Ave:geo:-83.9187262,35.9621547
END:VEVENT
END:VCALENDAR