BEGIN:VCALENDAR
VERSION:2.0
PRODID:-//Smoky Mountain - ECPv6.15.20//NONSGML v1.0//EN
CALSCALE:GREGORIAN
METHOD:PUBLISH
X-WR-CALNAME:Smoky Mountain
X-ORIGINAL-URL:https://smokymtn.cisvusa.org
X-WR-CALDESC:Events for Smoky Mountain
REFRESH-INTERVAL;VALUE=DURATION:PT1H
X-Robots-Tag:noindex
X-PUBLISHED-TTL:PT1H
BEGIN:VTIMEZONE
TZID:America/New_York
BEGIN:DAYLIGHT
TZOFFSETFROM:-0500
TZOFFSETTO:-0400
TZNAME:EDT
DTSTART:20190310T070000
END:DAYLIGHT
BEGIN:STANDARD
TZOFFSETFROM:-0400
TZOFFSETTO:-0500
TZNAME:EST
DTSTART:20191103T060000
END:STANDARD
BEGIN:DAYLIGHT
TZOFFSETFROM:-0500
TZOFFSETTO:-0400
TZNAME:EDT
DTSTART:20200308T070000
END:DAYLIGHT
BEGIN:STANDARD
TZOFFSETFROM:-0400
TZOFFSETTO:-0500
TZNAME:EST
DTSTART:20201101T060000
END:STANDARD
BEGIN:DAYLIGHT
TZOFFSETFROM:-0500
TZOFFSETTO:-0400
TZNAME:EDT
DTSTART:20210314T070000
END:DAYLIGHT
BEGIN:STANDARD
TZOFFSETFROM:-0400
TZOFFSETTO:-0500
TZNAME:EST
DTSTART:20211107T060000
END:STANDARD
END:VTIMEZONE
BEGIN:VEVENT
DTSTART;TZID=America/New_York:20200314T090000
DTEND;TZID=America/New_York:20200314T163000
DTSTAMP:20260422T192416
CREATED:20200127T054717Z
LAST-MODIFIED:20200222T035150Z
UID:10000054-1584176400-1584203400@smokymtn.cisvusa.org
SUMMARY:Local Leadership Training
DESCRIPTION:Mandatory training for adult leaders and staff \nMarch 14\, 2020\nUT Law School\n9 am – 4:30 pm
URL:https://smokymtn.cisvusa.org/event/local-leadership-training-2/
LOCATION:UT Law School\, 1505 Cumberland Ave\, Knoxville\, TN\, 37996
CATEGORIES:Board Meeting and JB Board Meeting
ATTACH;FMTTYPE=image/jpeg:https://smokymtn.cisvusa.org/wp-content/uploads/sites/23/2020/01/20170325_082949-scaled.jpg
GEO:35.9581223;-83.9295683
X-APPLE-STRUCTURED-LOCATION;VALUE=URI;X-ADDRESS=UT Law School 1505 Cumberland Ave Knoxville TN 37996;X-APPLE-RADIUS=500;X-TITLE=1505 Cumberland Ave:geo:-83.9295683,35.9581223
END:VEVENT
END:VCALENDAR